BEGIN:VCALENDAR
VERSION:2.0
PRODID:-//Orange City - ECPv6.15.20//NONSGML v1.0//EN
CALSCALE:GREGORIAN
METHOD:PUBLISH
X-WR-CALNAME:Orange City
X-ORIGINAL-URL:https://www.orangecitypoker.com
X-WR-CALDESC:Events for Orange City
REFRESH-INTERVAL;VALUE=DURATION:PT1H
X-Robots-Tag:noindex
X-PUBLISHED-TTL:PT1H
BEGIN:VTIMEZONE
TZID:America/New_York
BEGIN:DAYLIGHT
TZOFFSETFROM:-0500
TZOFFSETTO:-0400
TZNAME:EDT
DTSTART:20250309T070000
END:DAYLIGHT
BEGIN:STANDARD
TZOFFSETFROM:-0400
TZOFFSETTO:-0500
TZNAME:EST
DTSTART:20251102T060000
END:STANDARD
BEGIN:DAYLIGHT
TZOFFSETFROM:-0500
TZOFFSETTO:-0400
TZNAME:EDT
DTSTART:20260308T070000
END:DAYLIGHT
BEGIN:STANDARD
TZOFFSETFROM:-0400
TZOFFSETTO:-0500
TZNAME:EST
DTSTART:20261101T060000
END:STANDARD
BEGIN:DAYLIGHT
TZOFFSETFROM:-0500
TZOFFSETTO:-0400
TZNAME:EDT
DTSTART:20270314T070000
END:DAYLIGHT
BEGIN:STANDARD
TZOFFSETFROM:-0400
TZOFFSETTO:-0500
TZNAME:EST
DTSTART:20271107T060000
END:STANDARD
END:VTIMEZONE
BEGIN:VEVENT
DTSTART;TZID=America/New_York:20260428T191000
DTEND;TZID=America/New_York:20260428T233000
DTSTAMP:20260424T102321
CREATED:20250619T223135Z
LAST-MODIFIED:20260420T185022Z
UID:10001020-1777403400-1777419000@www.orangecitypoker.com
SUMMARY:$100 Double Board Bomb Pot
DESCRIPTION:Tuesdays* | 7:10pm\n*Excluding May 19\n\n\n$100 Buy-in\n20\,000 Units\n20-Minute Levels\n\nTournament Structure (pdf)
URL:https://www.orangecitypoker.com/event/100-double-board-bomb-pot/2026-04-28/
CATEGORIES:Poker Tournaments
ATTACH;FMTTYPE=image/jpeg:https://www.orangecitypoker.com/wp-content/uploads/2025/06/OC-DoubleBoardBombPot-Promo.jpg
END:VEVENT
BEGIN:VEVENT
DTSTART;TZID=America/New_York:20260505T191000
DTEND;TZID=America/New_York:20260505T233000
DTSTAMP:20260424T102321
CREATED:20250619T223135Z
LAST-MODIFIED:20260420T185022Z
UID:10001128-1778008200-1778023800@www.orangecitypoker.com
SUMMARY:$100 Double Board Bomb Pot
DESCRIPTION:Tuesdays* | 7:10pm\n*Excluding May 19\n\n\n$100 Buy-in\n20\,000 Units\n20-Minute Levels\n\nTournament Structure (pdf)
URL:https://www.orangecitypoker.com/event/100-double-board-bomb-pot/2026-05-05/
CATEGORIES:Poker Tournaments
ATTACH;FMTTYPE=image/jpeg:https://www.orangecitypoker.com/wp-content/uploads/2025/06/OC-DoubleBoardBombPot-Promo.jpg
END:VEVENT
BEGIN:VEVENT
DTSTART;TZID=America/New_York:20260512T191000
DTEND;TZID=America/New_York:20260512T233000
DTSTAMP:20260424T102321
CREATED:20250619T223135Z
LAST-MODIFIED:20260420T185022Z
UID:10001129-1778613000-1778628600@www.orangecitypoker.com
SUMMARY:$100 Double Board Bomb Pot
DESCRIPTION:Tuesdays* | 7:10pm\n*Excluding May 19\n\n\n$100 Buy-in\n20\,000 Units\n20-Minute Levels\n\nTournament Structure (pdf)
URL:https://www.orangecitypoker.com/event/100-double-board-bomb-pot/2026-05-12/
CATEGORIES:Poker Tournaments
ATTACH;FMTTYPE=image/jpeg:https://www.orangecitypoker.com/wp-content/uploads/2025/06/OC-DoubleBoardBombPot-Promo.jpg
END:VEVENT
BEGIN:VEVENT
DTSTART;TZID=America/New_York:20260526T191000
DTEND;TZID=America/New_York:20260526T233000
DTSTAMP:20260424T102321
CREATED:20250619T223135Z
LAST-MODIFIED:20260420T185022Z
UID:10001130-1779822600-1779838200@www.orangecitypoker.com
SUMMARY:$100 Double Board Bomb Pot
DESCRIPTION:Tuesdays* | 7:10pm\n*Excluding May 19\n\n\n$100 Buy-in\n20\,000 Units\n20-Minute Levels\n\nTournament Structure (pdf)
URL:https://www.orangecitypoker.com/event/100-double-board-bomb-pot/2026-05-26/
CATEGORIES:Poker Tournaments
ATTACH;FMTTYPE=image/jpeg:https://www.orangecitypoker.com/wp-content/uploads/2025/06/OC-DoubleBoardBombPot-Promo.jpg
END:VEVENT
END:VCALENDAR