BEGIN:VCALENDAR
VERSION:2.0
PRODID:-//Orange City - ECPv6.15.20//NONSGML v1.0//EN
CALSCALE:GREGORIAN
METHOD:PUBLISH
X-WR-CALNAME:Orange City
X-ORIGINAL-URL:https://www.orangecitypoker.com
X-WR-CALDESC:Events for Orange City
REFRESH-INTERVAL;VALUE=DURATION:PT1H
X-Robots-Tag:noindex
X-PUBLISHED-TTL:PT1H
BEGIN:VTIMEZONE
TZID:America/New_York
BEGIN:DAYLIGHT
TZOFFSETFROM:-0500
TZOFFSETTO:-0400
TZNAME:EDT
DTSTART:20250309T070000
END:DAYLIGHT
BEGIN:STANDARD
TZOFFSETFROM:-0400
TZOFFSETTO:-0500
TZNAME:EST
DTSTART:20251102T060000
END:STANDARD
BEGIN:DAYLIGHT
TZOFFSETFROM:-0500
TZOFFSETTO:-0400
TZNAME:EDT
DTSTART:20260308T070000
END:DAYLIGHT
BEGIN:STANDARD
TZOFFSETFROM:-0400
TZOFFSETTO:-0500
TZNAME:EST
DTSTART:20261101T060000
END:STANDARD
BEGIN:DAYLIGHT
TZOFFSETFROM:-0500
TZOFFSETTO:-0400
TZNAME:EDT
DTSTART:20270314T070000
END:DAYLIGHT
BEGIN:STANDARD
TZOFFSETFROM:-0400
TZOFFSETTO:-0500
TZNAME:EST
DTSTART:20271107T060000
END:STANDARD
END:VTIMEZONE
BEGIN:VEVENT
DTSTART;TZID=America/New_York:20260426T110000
DTEND;TZID=America/New_York:20260426T220000
DTSTAMP:20260424T083210
CREATED:20250619T190710Z
LAST-MODIFIED:20260420T171651Z
UID:10000975-1777201200-1777240800@www.orangecitypoker.com
SUMMARY:$300 Every 20 Minutes
DESCRIPTION:Sundays | 11am – 10pm\n\nMake Sundays your favorite day of the week with our new High Hand promotion! Every 20 minutes from 11am-10pm\, you have a shot at winning $300 just by playing your favorite poker games. Don’t miss out on the excitement and the opportunity to boost your winnings!
URL:https://www.orangecitypoker.com/event/300-every-20-minutes/2026-04-26/
CATEGORIES:High Hand Promotions
ATTACH;FMTTYPE=image/jpeg:https://www.orangecitypoker.com/wp-content/uploads/2025/06/GDAY7411_300Every20_Web_300x250_June25_V1.jpg
END:VEVENT
BEGIN:VEVENT
DTSTART;TZID=America/New_York:20260503T110000
DTEND;TZID=America/New_York:20260503T220000
DTSTAMP:20260424T083210
CREATED:20250619T190710Z
LAST-MODIFIED:20260420T171651Z
UID:10001087-1777806000-1777845600@www.orangecitypoker.com
SUMMARY:$300 Every 20 Minutes
DESCRIPTION:Sundays | 11am – 10pm\n\nMake Sundays your favorite day of the week with our new High Hand promotion! Every 20 minutes from 11am-10pm\, you have a shot at winning $300 just by playing your favorite poker games. Don’t miss out on the excitement and the opportunity to boost your winnings!
URL:https://www.orangecitypoker.com/event/300-every-20-minutes/2026-05-03/
CATEGORIES:High Hand Promotions
ATTACH;FMTTYPE=image/jpeg:https://www.orangecitypoker.com/wp-content/uploads/2025/06/GDAY7411_300Every20_Web_300x250_June25_V1.jpg
END:VEVENT
BEGIN:VEVENT
DTSTART;TZID=America/New_York:20260510T110000
DTEND;TZID=America/New_York:20260510T220000
DTSTAMP:20260424T083210
CREATED:20250619T190710Z
LAST-MODIFIED:20260420T171651Z
UID:10001088-1778410800-1778450400@www.orangecitypoker.com
SUMMARY:$300 Every 20 Minutes
DESCRIPTION:Sundays | 11am – 10pm\n\nMake Sundays your favorite day of the week with our new High Hand promotion! Every 20 minutes from 11am-10pm\, you have a shot at winning $300 just by playing your favorite poker games. Don’t miss out on the excitement and the opportunity to boost your winnings!
URL:https://www.orangecitypoker.com/event/300-every-20-minutes/2026-05-10/
CATEGORIES:High Hand Promotions
ATTACH;FMTTYPE=image/jpeg:https://www.orangecitypoker.com/wp-content/uploads/2025/06/GDAY7411_300Every20_Web_300x250_June25_V1.jpg
END:VEVENT
BEGIN:VEVENT
DTSTART;TZID=America/New_York:20260517T110000
DTEND;TZID=America/New_York:20260517T220000
DTSTAMP:20260424T083210
CREATED:20250619T190710Z
LAST-MODIFIED:20260420T171651Z
UID:10001089-1779015600-1779055200@www.orangecitypoker.com
SUMMARY:$300 Every 20 Minutes
DESCRIPTION:Sundays | 11am – 10pm\n\nMake Sundays your favorite day of the week with our new High Hand promotion! Every 20 minutes from 11am-10pm\, you have a shot at winning $300 just by playing your favorite poker games. Don’t miss out on the excitement and the opportunity to boost your winnings!
URL:https://www.orangecitypoker.com/event/300-every-20-minutes/2026-05-17/
CATEGORIES:High Hand Promotions
ATTACH;FMTTYPE=image/jpeg:https://www.orangecitypoker.com/wp-content/uploads/2025/06/GDAY7411_300Every20_Web_300x250_June25_V1.jpg
END:VEVENT
BEGIN:VEVENT
DTSTART;TZID=America/New_York:20260524T110000
DTEND;TZID=America/New_York:20260524T220000
DTSTAMP:20260424T083210
CREATED:20250619T190710Z
LAST-MODIFIED:20260420T171651Z
UID:10001090-1779620400-1779660000@www.orangecitypoker.com
SUMMARY:$300 Every 20 Minutes
DESCRIPTION:Sundays | 11am – 10pm\n\nMake Sundays your favorite day of the week with our new High Hand promotion! Every 20 minutes from 11am-10pm\, you have a shot at winning $300 just by playing your favorite poker games. Don’t miss out on the excitement and the opportunity to boost your winnings!
URL:https://www.orangecitypoker.com/event/300-every-20-minutes/2026-05-24/
CATEGORIES:High Hand Promotions
ATTACH;FMTTYPE=image/jpeg:https://www.orangecitypoker.com/wp-content/uploads/2025/06/GDAY7411_300Every20_Web_300x250_June25_V1.jpg
END:VEVENT
BEGIN:VEVENT
DTSTART;TZID=America/New_York:20260531T110000
DTEND;TZID=America/New_York:20260531T220000
DTSTAMP:20260424T083210
CREATED:20250619T190710Z
LAST-MODIFIED:20260420T171651Z
UID:10001091-1780225200-1780264800@www.orangecitypoker.com
SUMMARY:$300 Every 20 Minutes
DESCRIPTION:Sundays | 11am – 10pm\n\nMake Sundays your favorite day of the week with our new High Hand promotion! Every 20 minutes from 11am-10pm\, you have a shot at winning $300 just by playing your favorite poker games. Don’t miss out on the excitement and the opportunity to boost your winnings!
URL:https://www.orangecitypoker.com/event/300-every-20-minutes/2026-05-31/
CATEGORIES:High Hand Promotions
ATTACH;FMTTYPE=image/jpeg:https://www.orangecitypoker.com/wp-content/uploads/2025/06/GDAY7411_300Every20_Web_300x250_June25_V1.jpg
END:VEVENT
END:VCALENDAR