BEGIN:VCALENDAR
VERSION:2.0
PRODID:-//Orange City - ECPv6.15.20//NONSGML v1.0//EN
CALSCALE:GREGORIAN
METHOD:PUBLISH
X-WR-CALNAME:Orange City
X-ORIGINAL-URL:https://www.orangecitypoker.com
X-WR-CALDESC:Events for Orange City
REFRESH-INTERVAL;VALUE=DURATION:PT1H
X-Robots-Tag:noindex
X-PUBLISHED-TTL:PT1H
BEGIN:VTIMEZONE
TZID:America/New_York
BEGIN:DAYLIGHT
TZOFFSETFROM:-0500
TZOFFSETTO:-0400
TZNAME:EDT
DTSTART:20250309T070000
END:DAYLIGHT
BEGIN:STANDARD
TZOFFSETFROM:-0400
TZOFFSETTO:-0500
TZNAME:EST
DTSTART:20251102T060000
END:STANDARD
BEGIN:DAYLIGHT
TZOFFSETFROM:-0500
TZOFFSETTO:-0400
TZNAME:EDT
DTSTART:20260308T070000
END:DAYLIGHT
BEGIN:STANDARD
TZOFFSETFROM:-0400
TZOFFSETTO:-0500
TZNAME:EST
DTSTART:20261101T060000
END:STANDARD
BEGIN:DAYLIGHT
TZOFFSETFROM:-0500
TZOFFSETTO:-0400
TZNAME:EDT
DTSTART:20270314T070000
END:DAYLIGHT
BEGIN:STANDARD
TZOFFSETFROM:-0400
TZOFFSETTO:-0500
TZNAME:EST
DTSTART:20271107T060000
END:STANDARD
END:VTIMEZONE
BEGIN:VEVENT
DTSTART;TZID=America/New_York:20260503T100000
DTEND;TZID=America/New_York:20260503T170000
DTSTAMP:20260425T070908
CREATED:20260421T161815Z
LAST-MODIFIED:20260421T161827Z
UID:10001155-1777802400-1777827600@www.orangecitypoker.com
SUMMARY:Fuel The Table Sundays
DESCRIPTION:Sundays in May | 10am – 5pm \nHit the high hand and win gas gift cards for you and everyone at your table!
URL:https://www.orangecitypoker.com/event/fuel-the-table-sundays/2026-05-03/
CATEGORIES:Promotions
ATTACH;FMTTYPE=image/jpeg:https://www.orangecitypoker.com/wp-content/uploads/2026/04/DN-6475_GDBOC_FuelTheTable_Web_300x250.jpg
END:VEVENT
BEGIN:VEVENT
DTSTART;TZID=America/New_York:20260510T100000
DTEND;TZID=America/New_York:20260510T170000
DTSTAMP:20260425T070908
CREATED:20260421T161815Z
LAST-MODIFIED:20260421T161827Z
UID:10001156-1778407200-1778432400@www.orangecitypoker.com
SUMMARY:Fuel The Table Sundays
DESCRIPTION:Sundays in May | 10am – 5pm \nHit the high hand and win gas gift cards for you and everyone at your table!
URL:https://www.orangecitypoker.com/event/fuel-the-table-sundays/2026-05-10/
CATEGORIES:Promotions
ATTACH;FMTTYPE=image/jpeg:https://www.orangecitypoker.com/wp-content/uploads/2026/04/DN-6475_GDBOC_FuelTheTable_Web_300x250.jpg
END:VEVENT
BEGIN:VEVENT
DTSTART;TZID=America/New_York:20260517T100000
DTEND;TZID=America/New_York:20260517T170000
DTSTAMP:20260425T070908
CREATED:20260421T161815Z
LAST-MODIFIED:20260421T161827Z
UID:10001157-1779012000-1779037200@www.orangecitypoker.com
SUMMARY:Fuel The Table Sundays
DESCRIPTION:Sundays in May | 10am – 5pm \nHit the high hand and win gas gift cards for you and everyone at your table!
URL:https://www.orangecitypoker.com/event/fuel-the-table-sundays/2026-05-17/
CATEGORIES:Promotions
ATTACH;FMTTYPE=image/jpeg:https://www.orangecitypoker.com/wp-content/uploads/2026/04/DN-6475_GDBOC_FuelTheTable_Web_300x250.jpg
END:VEVENT
BEGIN:VEVENT
DTSTART;TZID=America/New_York:20260524T100000
DTEND;TZID=America/New_York:20260524T170000
DTSTAMP:20260425T070908
CREATED:20260421T161815Z
LAST-MODIFIED:20260421T161827Z
UID:10001158-1779616800-1779642000@www.orangecitypoker.com
SUMMARY:Fuel The Table Sundays
DESCRIPTION:Sundays in May | 10am – 5pm \nHit the high hand and win gas gift cards for you and everyone at your table!
URL:https://www.orangecitypoker.com/event/fuel-the-table-sundays/2026-05-24/
CATEGORIES:Promotions
ATTACH;FMTTYPE=image/jpeg:https://www.orangecitypoker.com/wp-content/uploads/2026/04/DN-6475_GDBOC_FuelTheTable_Web_300x250.jpg
END:VEVENT
BEGIN:VEVENT
DTSTART;TZID=America/New_York:20260531T100000
DTEND;TZID=America/New_York:20260531T170000
DTSTAMP:20260425T070908
CREATED:20260421T161815Z
LAST-MODIFIED:20260421T161827Z
UID:10001159-1780221600-1780246800@www.orangecitypoker.com
SUMMARY:Fuel The Table Sundays
DESCRIPTION:Sundays in May | 10am – 5pm \nHit the high hand and win gas gift cards for you and everyone at your table!
URL:https://www.orangecitypoker.com/event/fuel-the-table-sundays/2026-05-31/
CATEGORIES:Promotions
ATTACH;FMTTYPE=image/jpeg:https://www.orangecitypoker.com/wp-content/uploads/2026/04/DN-6475_GDBOC_FuelTheTable_Web_300x250.jpg
END:VEVENT
END:VCALENDAR