BEGIN:VCALENDAR
VERSION:2.0
PRODID:-//Orange City - ECPv6.15.20//NONSGML v1.0//EN
CALSCALE:GREGORIAN
METHOD:PUBLISH
X-ORIGINAL-URL:https://www.orangecitypoker.com
X-WR-CALDESC:Events for Orange City
REFRESH-INTERVAL;VALUE=DURATION:PT1H
X-Robots-Tag:noindex
X-PUBLISHED-TTL:PT1H
BEGIN:VTIMEZONE
TZID:America/New_York
BEGIN:DAYLIGHT
TZOFFSETFROM:-0500
TZOFFSETTO:-0400
TZNAME:EDT
DTSTART:20250309T070000
END:DAYLIGHT
BEGIN:STANDARD
TZOFFSETFROM:-0400
TZOFFSETTO:-0500
TZNAME:EST
DTSTART:20251102T060000
END:STANDARD
BEGIN:DAYLIGHT
TZOFFSETFROM:-0500
TZOFFSETTO:-0400
TZNAME:EDT
DTSTART:20260308T070000
END:DAYLIGHT
BEGIN:STANDARD
TZOFFSETFROM:-0400
TZOFFSETTO:-0500
TZNAME:EST
DTSTART:20261101T060000
END:STANDARD
BEGIN:DAYLIGHT
TZOFFSETFROM:-0500
TZOFFSETTO:-0400
TZNAME:EDT
DTSTART:20270314T070000
END:DAYLIGHT
BEGIN:STANDARD
TZOFFSETFROM:-0400
TZOFFSETTO:-0500
TZNAME:EST
DTSTART:20271107T060000
END:STANDARD
END:VTIMEZONE
BEGIN:VEVENT
DTSTART;TZID=America/New_York:20260326T110000
DTEND;TZID=America/New_York:20260326T233000
DTSTAMP:20260424T041902
CREATED:20250617T154536Z
LAST-MODIFIED:20260420T171955Z
UID:10000641-1774522800-1774567800@www.orangecitypoker.com
SUMMARY:Wheel or No Wheel
DESCRIPTION:Tuesdays & Thursdays | 11am – 10pm\n\nSeize the moment every 30 minutes\, as the winning high hand has the chance to pocket $300 in cash or take a spin on the wheel for even bigger winnings!
URL:https://www.orangecitypoker.com/event/wheel-or-no-wheel/2026-03-26/
CATEGORIES:High Hand Promotions
ATTACH;FMTTYPE=image/jpeg:https://www.orangecitypoker.com/wp-content/uploads/2025/06/FL-WheelNoWheel-Promo.jpg
END:VEVENT
BEGIN:VEVENT
DTSTART;TZID=America/New_York:20260326T191000
DTEND;TZID=America/New_York:20260326T233000
DTSTAMP:20260424T041902
CREATED:20250619T231430Z
LAST-MODIFIED:20260420T190603Z
UID:10001135-1774552200-1774567800@www.orangecitypoker.com
SUMMARY:Double Stack Turbo No Limit Hold’em
DESCRIPTION:Thursdays* | 7:10pm\n*Excluding May 7\, 14 & 21\n\n\n$100 Buy-in\n20\,000 Units\n15-Minute Levels\n\nTournament Structure (pdf)
URL:https://www.orangecitypoker.com/event/double-stack-turbo-no-limit-holdem/2026-03-26/
CATEGORIES:Poker Tournaments
ATTACH;FMTTYPE=image/jpeg:https://www.orangecitypoker.com/wp-content/uploads/2025/06/OC-100-GAPT-DoubleStack-promo.jpg
END:VEVENT
BEGIN:VEVENT
DTSTART;TZID=America/New_York:20260327T110000
DTEND;TZID=America/New_York:20260327T233000
DTSTAMP:20260424T041902
CREATED:20250619T204842Z
LAST-MODIFIED:20260420T172618Z
UID:10000653-1774609200-1774654200@www.orangecitypoker.com
SUMMARY:$500 Every 20 Minutes
DESCRIPTION:Fridays & Saturdays*\n*Excluding April 25 & May 1\, 9\, 15\, & 23\n\n$500 Every 20 Minutes from 11am – Midnight \n$200 Every 30 Minutes from Midnight – 2am
URL:https://www.orangecitypoker.com/event/500-every-20-minutes/2026-03-27/
CATEGORIES:High Hand Promotions
ATTACH;FMTTYPE=image/jpeg:https://www.orangecitypoker.com/wp-content/uploads/2025/06/GDAY7155_HighHands_Web_300x250_July25_V1.jpg
END:VEVENT
BEGIN:VEVENT
DTSTART;TZID=America/New_York:20260327T151000
DTEND;TZID=America/New_York:20260327T233000
DTSTAMP:20260424T041902
CREATED:20250619T232615Z
LAST-MODIFIED:20260420T190319Z
UID:10001137-1774624200-1774654200@www.orangecitypoker.com
SUMMARY:$165 Double Green Chip Bounty
DESCRIPTION:Fridays* | 3:10pm\n*Excluding May 15 & 22\n\n\n$165 Buy-in = $75 prize pool + $50 Bounty + $25 administrative fee + $15 staff gratuity.\nOption 2: $165 Buy-in = $75 Prize pool + $50 Bounty + $40\n20\,000 Units\n20 Minute Levels\n\nTournament Structure (pdf)
URL:https://www.orangecitypoker.com/event/165-double-green-chip-bounty/2026-03-27/
CATEGORIES:Poker Tournaments
ATTACH;FMTTYPE=image/jpeg:https://www.orangecitypoker.com/wp-content/uploads/2025/06/OC-165-Green-Chip-promo.jpg
END:VEVENT
BEGIN:VEVENT
DTSTART;TZID=America/New_York:20260328T110000
DTEND;TZID=America/New_York:20260328T233000
DTSTAMP:20260424T041902
CREATED:20250619T204842Z
LAST-MODIFIED:20260420T172618Z
UID:10001109-1774695600-1774740600@www.orangecitypoker.com
SUMMARY:$500 Every 20 Minutes
DESCRIPTION:Fridays & Saturdays*\n*Excluding April 25 & May 1\, 9\, 15\, & 23\n\n$500 Every 20 Minutes from 11am – Midnight \n$200 Every 30 Minutes from Midnight – 2am
URL:https://www.orangecitypoker.com/event/500-every-20-minutes/2026-03-28/
CATEGORIES:High Hand Promotions
ATTACH;FMTTYPE=image/jpeg:https://www.orangecitypoker.com/wp-content/uploads/2025/06/GDAY7155_HighHands_Web_300x250_July25_V1.jpg
END:VEVENT
BEGIN:VEVENT
DTSTART;TZID=America/New_York:20260328T121000
DTEND;TZID=America/New_York:20260328T233000
DTSTAMP:20260424T041902
CREATED:20250619T234601Z
LAST-MODIFIED:20260420T191120Z
UID:10001143-1774699800-1774740600@www.orangecitypoker.com
SUMMARY:$100 PLO High Only Double Board Bomb Pot
DESCRIPTION:Saturdays* | 12:10pm\n*Excluding May 16 & 23\n\n\n$100 Buy-in\n20\,000 Units\nLevels 20 minutes each\n\nTournament Structure (pdf)
URL:https://www.orangecitypoker.com/event/100-plo-high-only-double-board-bomb-pot/2026-03-28/
CATEGORIES:Poker Tournaments
ATTACH;FMTTYPE=image/jpeg:https://www.orangecitypoker.com/wp-content/uploads/2025/06/OC-HighLowDoubleBoardBombPot-Promo.jpg
END:VEVENT
BEGIN:VEVENT
DTSTART;TZID=America/New_York:20260329T110000
DTEND;TZID=America/New_York:20260329T220000
DTSTAMP:20260424T041902
CREATED:20250619T190710Z
LAST-MODIFIED:20260420T171651Z
UID:10000627-1774782000-1774821600@www.orangecitypoker.com
SUMMARY:$300 Every 20 Minutes
DESCRIPTION:Sundays | 11am – 10pm\n\nMake Sundays your favorite day of the week with our new High Hand promotion! Every 20 minutes from 11am-10pm\, you have a shot at winning $300 just by playing your favorite poker games. Don’t miss out on the excitement and the opportunity to boost your winnings!
URL:https://www.orangecitypoker.com/event/300-every-20-minutes/2026-03-29/
CATEGORIES:High Hand Promotions
ATTACH;FMTTYPE=image/jpeg:https://www.orangecitypoker.com/wp-content/uploads/2025/06/GDAY7411_300Every20_Web_300x250_June25_V1.jpg
END:VEVENT
BEGIN:VEVENT
DTSTART;TZID=America/New_York:20260330T110000
DTEND;TZID=America/New_York:20260330T220000
DTSTAMP:20260424T041902
CREATED:20250617T141827Z
LAST-MODIFIED:20260420T171830Z
UID:10000632-1774868400-1774908000@www.orangecitypoker.com
SUMMARY:$200 Every 20 Minutes
DESCRIPTION:Mondays* | 11am – 10pm\n*Excluding May 25\n\nMake Mondays your favorite day of the week with our new High Hand promotion! \nEvery 20 minutes from 11am-10pm\, you have a shot at winning $200 just by playing your favorite poker games. Don’t miss out on the excitement and the opportunity to boost your winnings!
URL:https://www.orangecitypoker.com/event/200-every-20-minutes/2026-03-30/
CATEGORIES:High Hand Promotions
ATTACH;FMTTYPE=image/jpeg:https://www.orangecitypoker.com/wp-content/uploads/2025/06/FL-200Every20Mins-Promo.jpg
END:VEVENT
BEGIN:VEVENT
DTSTART;TZID=America/New_York:20260330T191000
DTEND;TZID=America/New_York:20260330T233000
DTSTAMP:20260424T041902
CREATED:20250619T222158Z
LAST-MODIFIED:20260420T184830Z
UID:10000662-1774897800-1774913400@www.orangecitypoker.com
SUMMARY:$130 Triple Stack Turbo No Limit Hold'em
DESCRIPTION:Mondays* | 7:10pm\n*Excluding May 18 & 25\n\n\n$130 Buy-in\n30\,000 Units\n15-Minute Levels\n\nTornament Structure (pdf)
URL:https://www.orangecitypoker.com/event/130-triple-stack-turbo-no-limit-holdem/2026-03-30/
CATEGORIES:Poker Tournaments
ATTACH;FMTTYPE=image/jpeg:https://www.orangecitypoker.com/wp-content/uploads/2025/06/OC-Triple-Stack-Turbo-GAPT-promo.jpg
END:VEVENT
BEGIN:VEVENT
DTSTART;TZID=America/New_York:20260331T110000
DTEND;TZID=America/New_York:20260331T233000
DTSTAMP:20260424T041902
CREATED:20250617T154536Z
LAST-MODIFIED:20260420T171955Z
UID:10000642-1774954800-1774999800@www.orangecitypoker.com
SUMMARY:Wheel or No Wheel
DESCRIPTION:Tuesdays & Thursdays | 11am – 10pm\n\nSeize the moment every 30 minutes\, as the winning high hand has the chance to pocket $300 in cash or take a spin on the wheel for even bigger winnings!
URL:https://www.orangecitypoker.com/event/wheel-or-no-wheel/2026-03-31/
CATEGORIES:High Hand Promotions
ATTACH;FMTTYPE=image/jpeg:https://www.orangecitypoker.com/wp-content/uploads/2025/06/FL-WheelNoWheel-Promo.jpg
END:VEVENT
BEGIN:VEVENT
DTSTART;TZID=America/New_York:20260331T191000
DTEND;TZID=America/New_York:20260331T233000
DTSTAMP:20260424T041902
CREATED:20250619T223135Z
LAST-MODIFIED:20260420T185022Z
UID:10000667-1774984200-1774999800@www.orangecitypoker.com
SUMMARY:$100 Double Board Bomb Pot
DESCRIPTION:Tuesdays* | 7:10pm\n*Excluding May 19\n\n\n$100 Buy-in\n20\,000 Units\n20-Minute Levels\n\nTournament Structure (pdf)
URL:https://www.orangecitypoker.com/event/100-double-board-bomb-pot/2026-03-31/
CATEGORIES:Poker Tournaments
ATTACH;FMTTYPE=image/jpeg:https://www.orangecitypoker.com/wp-content/uploads/2025/06/OC-DoubleBoardBombPot-Promo.jpg
END:VEVENT
BEGIN:VEVENT
DTSTART;VALUE=DATE:20260401
DTEND;VALUE=DATE:20260601
DTSTAMP:20260424T041902
CREATED:20260421T132430Z
LAST-MODIFIED:20260421T140228Z
UID:10001066-1775001600-1780271999@www.orangecitypoker.com
SUMMARY:Rising Omaha Insta Pays
DESCRIPTION:The longer it sits\, the bigger it gets! \nFlop a Royal Flush: Jackpot starts at $900\nFlop a Straight Flush: Jackpot starts at $300 \nEach jackpot increases by $100 every week. \nRising Omaha InstaPays are available during all operating hours when a High Hand Promotion is not in effect and during the Morning Grind High Hands promotion. \nRules & Regulations (pdf)
URL:https://www.orangecitypoker.com/event/rising-omaha-insta-pays/
CATEGORIES:Promotions
ATTACH;FMTTYPE=image/jpeg:https://www.orangecitypoker.com/wp-content/uploads/2026/04/DN-6475_GDBOC_RisingOmaha_Web_300x250.jpg
END:VEVENT
BEGIN:VEVENT
DTSTART;TZID=America/New_York:20260401T100000
DTEND;TZID=America/New_York:20260401T110000
DTSTAMP:20260424T041902
CREATED:20260324T142223Z
LAST-MODIFIED:20260420T171407Z
UID:10001043-1775037600-1775041200@www.orangecitypoker.com
SUMMARY:Morning Grind High Hands
DESCRIPTION:Sunday – Thursday | 10am – 11am \n\nStart your poker day with Morning Grind High Hands\, happening Sunday through Thursday. Qualify starting hand one\, with the first payout at 11:00am. \nMorning Grind High Hands run as an hour-long session\, giving players a full stretch of action and more chances to take down the top hand. \nTo kick things off\, enjoy complimentary coffee from 10:00am – 11:00am. \nGrab a seat\, sip a cup of coffee\, and start the morning grind with us.
URL:https://www.orangecitypoker.com/event/morning-grind-high-hands/2026-04-01/
CATEGORIES:High Hand Promotions
ATTACH;FMTTYPE=image/jpeg:https://www.orangecitypoker.com/wp-content/uploads/2026/03/DN-5056_GDBOC_MorningGrind_WebPromo_Mar26_V1.jpg
END:VEVENT
BEGIN:VEVENT
DTSTART;TZID=America/New_York:20260401T110000
DTEND;TZID=America/New_York:20260401T220000
DTSTAMP:20260424T041902
CREATED:20250619T193616Z
LAST-MODIFIED:20260420T172303Z
UID:10000993-1775041200-1775080800@www.orangecitypoker.com
SUMMARY:$400 Every 20 Minutes
DESCRIPTION:Wednesdays | 11am – 10pm\n\nWin big with our high hand poker promotion\, where you could pocket $400 every 20 minutes! Don’t miss your chance to rake in the rewards while showcasing your poker skills.
URL:https://www.orangecitypoker.com/event/400-every-20-minutes/2026-04-01/
CATEGORIES:High Hand Promotions
ATTACH;FMTTYPE=image/jpeg:https://www.orangecitypoker.com/wp-content/uploads/2025/06/FL-400Every20Min-Promo.jpg
END:VEVENT
BEGIN:VEVENT
DTSTART;TZID=America/New_York:20260401T121000
DTEND;TZID=America/New_York:20260401T233000
DTSTAMP:20260424T041902
CREATED:20250619T225446Z
LAST-MODIFIED:20260420T185659Z
UID:10001021-1775045400-1775086200@www.orangecitypoker.com
SUMMARY:$130 Deep Stack No Limit Hold'em
DESCRIPTION:Wednesdays* | 12:10pm\n*Excluding March 25 & May 13 & 20\n\n\n$130 Buy-in\n25\,000 Units\n20 Minute Levels\n\nTournament Structure (pdf)
URL:https://www.orangecitypoker.com/event/130-deep-stack-no-limit-holdem/2026-04-01/
CATEGORIES:Poker Tournaments
ATTACH;FMTTYPE=image/jpeg:https://www.orangecitypoker.com/wp-content/uploads/2025/06/OC-DeepStackNLH-Promo.jpg
END:VEVENT
BEGIN:VEVENT
DTSTART;TZID=America/New_York:20260401T151000
DTEND;TZID=America/New_York:20260401T233000
DTSTAMP:20260424T041902
CREATED:20250619T181128Z
LAST-MODIFIED:20260309T183548Z
UID:10001040-1775056200-1775086200@www.orangecitypoker.com
SUMMARY:Satellite Into $300 Saturday Super 40’s
DESCRIPTION:Wednesday\, April 1st at 3:10pm\nThursday\, April 2nd at 3:10pm\nFriday\, April 3rd at 7:10pm\n\nVisit Saturday Super 40’s Main Event \n\n$70 Buy-in\n10\,000 Units\nLevels – 15 minutes each\n\nTournament Structure (pdf)
URL:https://www.orangecitypoker.com/event/satellite-into-300-saturday-super-40s/2026-04-01/
CATEGORIES:Poker Tournaments,Satellite Tournament
ATTACH;FMTTYPE=image/jpeg:https://www.orangecitypoker.com/wp-content/uploads/2025/06/FL-SatelliteTournamentBlue-Promo.jpg
END:VEVENT
BEGIN:VEVENT
DTSTART;TZID=America/New_York:20260402T100000
DTEND;TZID=America/New_York:20260402T110000
DTSTAMP:20260424T041903
CREATED:20260324T142223Z
LAST-MODIFIED:20260420T171407Z
UID:10001044-1775124000-1775127600@www.orangecitypoker.com
SUMMARY:Morning Grind High Hands
DESCRIPTION:Sunday – Thursday | 10am – 11am \n\nStart your poker day with Morning Grind High Hands\, happening Sunday through Thursday. Qualify starting hand one\, with the first payout at 11:00am. \nMorning Grind High Hands run as an hour-long session\, giving players a full stretch of action and more chances to take down the top hand. \nTo kick things off\, enjoy complimentary coffee from 10:00am – 11:00am. \nGrab a seat\, sip a cup of coffee\, and start the morning grind with us.
URL:https://www.orangecitypoker.com/event/morning-grind-high-hands/2026-04-02/
CATEGORIES:High Hand Promotions
ATTACH;FMTTYPE=image/jpeg:https://www.orangecitypoker.com/wp-content/uploads/2026/03/DN-5056_GDBOC_MorningGrind_WebPromo_Mar26_V1.jpg
END:VEVENT
BEGIN:VEVENT
DTSTART;TZID=America/New_York:20260402T110000
DTEND;TZID=America/New_York:20260402T233000
DTSTAMP:20260424T041903
CREATED:20250617T154536Z
LAST-MODIFIED:20260420T171955Z
UID:10000984-1775127600-1775172600@www.orangecitypoker.com
SUMMARY:Wheel or No Wheel
DESCRIPTION:Tuesdays & Thursdays | 11am – 10pm\n\nSeize the moment every 30 minutes\, as the winning high hand has the chance to pocket $300 in cash or take a spin on the wheel for even bigger winnings!
URL:https://www.orangecitypoker.com/event/wheel-or-no-wheel/2026-04-02/
CATEGORIES:High Hand Promotions
ATTACH;FMTTYPE=image/jpeg:https://www.orangecitypoker.com/wp-content/uploads/2025/06/FL-WheelNoWheel-Promo.jpg
END:VEVENT
BEGIN:VEVENT
DTSTART;TZID=America/New_York:20260402T151000
DTEND;TZID=America/New_York:20260402T233000
DTSTAMP:20260424T041903
CREATED:20250619T181128Z
LAST-MODIFIED:20260309T183548Z
UID:10001041-1775142600-1775172600@www.orangecitypoker.com
SUMMARY:Satellite Into $300 Saturday Super 40’s
DESCRIPTION:Wednesday\, April 1st at 3:10pm\nThursday\, April 2nd at 3:10pm\nFriday\, April 3rd at 7:10pm\n\nVisit Saturday Super 40’s Main Event \n\n$70 Buy-in\n10\,000 Units\nLevels – 15 minutes each\n\nTournament Structure (pdf)
URL:https://www.orangecitypoker.com/event/satellite-into-300-saturday-super-40s/2026-04-02/
CATEGORIES:Poker Tournaments,Satellite Tournament
ATTACH;FMTTYPE=image/jpeg:https://www.orangecitypoker.com/wp-content/uploads/2025/06/FL-SatelliteTournamentBlue-Promo.jpg
END:VEVENT
BEGIN:VEVENT
DTSTART;TZID=America/New_York:20260402T191000
DTEND;TZID=America/New_York:20260402T233000
DTSTAMP:20260424T041903
CREATED:20250619T231430Z
LAST-MODIFIED:20260420T190603Z
UID:10001136-1775157000-1775172600@www.orangecitypoker.com
SUMMARY:Double Stack Turbo No Limit Hold’em
DESCRIPTION:Thursdays* | 7:10pm\n*Excluding May 7\, 14 & 21\n\n\n$100 Buy-in\n20\,000 Units\n15-Minute Levels\n\nTournament Structure (pdf)
URL:https://www.orangecitypoker.com/event/double-stack-turbo-no-limit-holdem/2026-04-02/
CATEGORIES:Poker Tournaments
ATTACH;FMTTYPE=image/jpeg:https://www.orangecitypoker.com/wp-content/uploads/2025/06/OC-100-GAPT-DoubleStack-promo.jpg
END:VEVENT
BEGIN:VEVENT
DTSTART;TZID=America/New_York:20260403T110000
DTEND;TZID=America/New_York:20260403T233000
DTSTAMP:20260424T041903
CREATED:20250619T204842Z
LAST-MODIFIED:20260420T172618Z
UID:10001110-1775214000-1775259000@www.orangecitypoker.com
SUMMARY:$500 Every 20 Minutes
DESCRIPTION:Fridays & Saturdays*\n*Excluding April 25 & May 1\, 9\, 15\, & 23\n\n$500 Every 20 Minutes from 11am – Midnight \n$200 Every 30 Minutes from Midnight – 2am
URL:https://www.orangecitypoker.com/event/500-every-20-minutes/2026-04-03/
CATEGORIES:High Hand Promotions
ATTACH;FMTTYPE=image/jpeg:https://www.orangecitypoker.com/wp-content/uploads/2025/06/GDAY7155_HighHands_Web_300x250_July25_V1.jpg
END:VEVENT
BEGIN:VEVENT
DTSTART;TZID=America/New_York:20260403T151000
DTEND;TZID=America/New_York:20260403T233000
DTSTAMP:20260424T041903
CREATED:20250619T232615Z
LAST-MODIFIED:20260420T190319Z
UID:10001039-1775229000-1775259000@www.orangecitypoker.com
SUMMARY:$165 Double Green Chip Bounty
DESCRIPTION:Fridays* | 3:10pm\n*Excluding May 15 & 22\n\n\n$165 Buy-in = $75 prize pool + $50 Bounty + $25 administrative fee + $15 staff gratuity.\nOption 2: $165 Buy-in = $75 Prize pool + $50 Bounty + $40\n20\,000 Units\n20 Minute Levels\n\nTournament Structure (pdf)
URL:https://www.orangecitypoker.com/event/165-double-green-chip-bounty/2026-04-03/
CATEGORIES:Poker Tournaments
ATTACH;FMTTYPE=image/jpeg:https://www.orangecitypoker.com/wp-content/uploads/2025/06/OC-165-Green-Chip-promo.jpg
END:VEVENT
BEGIN:VEVENT
DTSTART;TZID=America/New_York:20260403T191000
DTEND;TZID=America/New_York:20260403T233000
DTSTAMP:20260424T041903
CREATED:20250619T181128Z
LAST-MODIFIED:20260309T183548Z
UID:10001042-1775243400-1775259000@www.orangecitypoker.com
SUMMARY:Satellite Into $300 Saturday Super 40’s
DESCRIPTION:Wednesday\, April 1st at 3:10pm\nThursday\, April 2nd at 3:10pm\nFriday\, April 3rd at 7:10pm\n\nVisit Saturday Super 40’s Main Event \n\n$70 Buy-in\n10\,000 Units\nLevels – 15 minutes each\n\nTournament Structure (pdf)
URL:https://www.orangecitypoker.com/event/satellite-into-300-saturday-super-40s/2026-04-03/
CATEGORIES:Poker Tournaments,Satellite Tournament
ATTACH;FMTTYPE=image/jpeg:https://www.orangecitypoker.com/wp-content/uploads/2025/06/FL-SatelliteTournamentBlue-Promo.jpg
END:VEVENT
BEGIN:VEVENT
DTSTART;TZID=America/New_York:20260404T110000
DTEND;TZID=America/New_York:20260404T233000
DTSTAMP:20260424T041903
CREATED:20250619T204842Z
LAST-MODIFIED:20260420T172618Z
UID:10001001-1775300400-1775345400@www.orangecitypoker.com
SUMMARY:$500 Every 20 Minutes
DESCRIPTION:Fridays & Saturdays*\n*Excluding April 25 & May 1\, 9\, 15\, & 23\n\n$500 Every 20 Minutes from 11am – Midnight \n$200 Every 30 Minutes from Midnight – 2am
URL:https://www.orangecitypoker.com/event/500-every-20-minutes/2026-04-04/
CATEGORIES:High Hand Promotions
ATTACH;FMTTYPE=image/jpeg:https://www.orangecitypoker.com/wp-content/uploads/2025/06/GDAY7155_HighHands_Web_300x250_July25_V1.jpg
END:VEVENT
BEGIN:VEVENT
DTSTART;TZID=America/New_York:20260404T111000
DTEND;TZID=America/New_York:20260404T233000
DTSTAMP:20260424T041903
CREATED:20250619T175104Z
LAST-MODIFIED:20260309T183813Z
UID:10000038-1775301000-1775345400@www.orangecitypoker.com
SUMMARY:Saturday Super 40's
DESCRIPTION:Saturday\, April 4 | 11:10am\n\nVisit Satellite Into $300 Saturday Super 40’s \n$40\,000 Guaranteed Prize Pool \n\n$300 Buy-in\n40\,000 Units\nLevels – 30 minutes each\n\nTournament Structure (pdf)
URL:https://www.orangecitypoker.com/event/saturday-super-40s/
CATEGORIES:Poker Tournaments
ATTACH;FMTTYPE=image/jpeg:https://www.orangecitypoker.com/wp-content/uploads/2025/06/OC-Super40s-Promo.jpg
END:VEVENT
BEGIN:VEVENT
DTSTART;TZID=America/New_York:20260404T121000
DTEND;TZID=America/New_York:20260404T233000
DTSTAMP:20260424T041903
CREATED:20250619T234601Z
LAST-MODIFIED:20260420T191120Z
UID:10001144-1775304600-1775345400@www.orangecitypoker.com
SUMMARY:$100 PLO High Only Double Board Bomb Pot
DESCRIPTION:Saturdays* | 12:10pm\n*Excluding May 16 & 23\n\n\n$100 Buy-in\n20\,000 Units\nLevels 20 minutes each\n\nTournament Structure (pdf)
URL:https://www.orangecitypoker.com/event/100-plo-high-only-double-board-bomb-pot/2026-04-04/
CATEGORIES:Poker Tournaments
ATTACH;FMTTYPE=image/jpeg:https://www.orangecitypoker.com/wp-content/uploads/2025/06/OC-HighLowDoubleBoardBombPot-Promo.jpg
END:VEVENT
BEGIN:VEVENT
DTSTART;TZID=America/New_York:20260405T100000
DTEND;TZID=America/New_York:20260405T110000
DTSTAMP:20260424T041903
CREATED:20260324T142223Z
LAST-MODIFIED:20260420T171407Z
UID:10001045-1775383200-1775386800@www.orangecitypoker.com
SUMMARY:Morning Grind High Hands
DESCRIPTION:Sunday – Thursday | 10am – 11am \n\nStart your poker day with Morning Grind High Hands\, happening Sunday through Thursday. Qualify starting hand one\, with the first payout at 11:00am. \nMorning Grind High Hands run as an hour-long session\, giving players a full stretch of action and more chances to take down the top hand. \nTo kick things off\, enjoy complimentary coffee from 10:00am – 11:00am. \nGrab a seat\, sip a cup of coffee\, and start the morning grind with us.
URL:https://www.orangecitypoker.com/event/morning-grind-high-hands/2026-04-05/
CATEGORIES:High Hand Promotions
ATTACH;FMTTYPE=image/jpeg:https://www.orangecitypoker.com/wp-content/uploads/2026/03/DN-5056_GDBOC_MorningGrind_WebPromo_Mar26_V1.jpg
END:VEVENT
BEGIN:VEVENT
DTSTART;TZID=America/New_York:20260405T110000
DTEND;TZID=America/New_York:20260405T220000
DTSTAMP:20260424T041903
CREATED:20250619T190710Z
LAST-MODIFIED:20260420T171651Z
UID:10000972-1775386800-1775426400@www.orangecitypoker.com
SUMMARY:$300 Every 20 Minutes
DESCRIPTION:Sundays | 11am – 10pm\n\nMake Sundays your favorite day of the week with our new High Hand promotion! Every 20 minutes from 11am-10pm\, you have a shot at winning $300 just by playing your favorite poker games. Don’t miss out on the excitement and the opportunity to boost your winnings!
URL:https://www.orangecitypoker.com/event/300-every-20-minutes/2026-04-05/
CATEGORIES:High Hand Promotions
ATTACH;FMTTYPE=image/jpeg:https://www.orangecitypoker.com/wp-content/uploads/2025/06/GDAY7411_300Every20_Web_300x250_June25_V1.jpg
END:VEVENT
BEGIN:VEVENT
DTSTART;TZID=America/New_York:20260405T191000
DTEND;TZID=America/New_York:20260405T233000
DTSTAMP:20260424T041903
CREATED:20250619T183511Z
LAST-MODIFIED:20260420T184147Z
UID:10001007-1775416200-1775431800@www.orangecitypoker.com
SUMMARY:$100 Green Chip Bounty
DESCRIPTION:Sundays* | 7:10pm\n*Excluding May 17 & 24\n\n\n$100 Buy-in\n15\,000 Units\n20-Minute Levels\n\nTournament Structure (pdf)
URL:https://www.orangecitypoker.com/event/100-green-chip-bounty/2026-04-05/
CATEGORIES:Poker Tournaments
ATTACH;FMTTYPE=image/jpeg:https://www.orangecitypoker.com/wp-content/uploads/2025/06/OC-GreenChipBounty-Promo.jpg
END:VEVENT
BEGIN:VEVENT
DTSTART;TZID=America/New_York:20260406T100000
DTEND;TZID=America/New_York:20260406T110000
DTSTAMP:20260424T041903
CREATED:20260324T142223Z
LAST-MODIFIED:20260420T171407Z
UID:10001046-1775469600-1775473200@www.orangecitypoker.com
SUMMARY:Morning Grind High Hands
DESCRIPTION:Sunday – Thursday | 10am – 11am \n\nStart your poker day with Morning Grind High Hands\, happening Sunday through Thursday. Qualify starting hand one\, with the first payout at 11:00am. \nMorning Grind High Hands run as an hour-long session\, giving players a full stretch of action and more chances to take down the top hand. \nTo kick things off\, enjoy complimentary coffee from 10:00am – 11:00am. \nGrab a seat\, sip a cup of coffee\, and start the morning grind with us.
URL:https://www.orangecitypoker.com/event/morning-grind-high-hands/2026-04-06/
CATEGORIES:High Hand Promotions
ATTACH;FMTTYPE=image/jpeg:https://www.orangecitypoker.com/wp-content/uploads/2026/03/DN-5056_GDBOC_MorningGrind_WebPromo_Mar26_V1.jpg
END:VEVENT
END:VCALENDAR