BEGIN:VCALENDAR
VERSION:2.0
PRODID:-//Orange City - ECPv6.15.20//NONSGML v1.0//EN
CALSCALE:GREGORIAN
METHOD:PUBLISH
X-ORIGINAL-URL:https://www.orangecitypoker.com
X-WR-CALDESC:Events for Orange City
REFRESH-INTERVAL;VALUE=DURATION:PT1H
X-Robots-Tag:noindex
X-PUBLISHED-TTL:PT1H
BEGIN:VTIMEZONE
TZID:America/New_York
BEGIN:DAYLIGHT
TZOFFSETFROM:-0500
TZOFFSETTO:-0400
TZNAME:EDT
DTSTART:20240310T070000
END:DAYLIGHT
BEGIN:STANDARD
TZOFFSETFROM:-0400
TZOFFSETTO:-0500
TZNAME:EST
DTSTART:20241103T060000
END:STANDARD
BEGIN:DAYLIGHT
TZOFFSETFROM:-0500
TZOFFSETTO:-0400
TZNAME:EDT
DTSTART:20250309T070000
END:DAYLIGHT
BEGIN:STANDARD
TZOFFSETFROM:-0400
TZOFFSETTO:-0500
TZNAME:EST
DTSTART:20251102T060000
END:STANDARD
BEGIN:DAYLIGHT
TZOFFSETFROM:-0500
TZOFFSETTO:-0400
TZNAME:EDT
DTSTART:20260308T070000
END:DAYLIGHT
BEGIN:STANDARD
TZOFFSETFROM:-0400
TZOFFSETTO:-0500
TZNAME:EST
DTSTART:20261101T060000
END:STANDARD
BEGIN:DAYLIGHT
TZOFFSETFROM:-0500
TZOFFSETTO:-0400
TZNAME:EDT
DTSTART:20270314T070000
END:DAYLIGHT
BEGIN:STANDARD
TZOFFSETFROM:-0400
TZOFFSETTO:-0500
TZNAME:EST
DTSTART:20271107T060000
END:STANDARD
END:VTIMEZONE
BEGIN:VEVENT
DTSTART;VALUE=DATE:20250728
DTEND;VALUE=DATE:20260601
DTSTAMP:20260424T112911
CREATED:20250728T200518Z
LAST-MODIFIED:20260421T144121Z
UID:10000161-1753660800-1780271999@www.orangecitypoker.com
SUMMARY:Bad Moon Rising Bad Beat Jackpot
DESCRIPTION:Daily\n\n  \nJackpot Amount as of 4/21 | $33\,000 \nQualifying Hand – AAAKK\n  \n\nWhen our daily promotions wrap up\, the excitement continues — qualifying hands drop\, and payouts rise weekly! \nRules & Regulations (pdf)
URL:https://www.orangecitypoker.com/event/bad-moon-rising-bad-beat-jackpot/
CATEGORIES:High Hand Promotions
ATTACH;FMTTYPE=image/jpeg:https://www.orangecitypoker.com/wp-content/uploads/2025/07/DBOC-BadMoon-Promo.jpg
END:VEVENT
BEGIN:VEVENT
DTSTART;VALUE=DATE:20260401
DTEND;VALUE=DATE:20260601
DTSTAMP:20260424T112911
CREATED:20260421T132430Z
LAST-MODIFIED:20260421T140228Z
UID:10001066-1775001600-1780271999@www.orangecitypoker.com
SUMMARY:Rising Omaha Insta Pays
DESCRIPTION:The longer it sits\, the bigger it gets! \nFlop a Royal Flush: Jackpot starts at $900\nFlop a Straight Flush: Jackpot starts at $300 \nEach jackpot increases by $100 every week. \nRising Omaha InstaPays are available during all operating hours when a High Hand Promotion is not in effect and during the Morning Grind High Hands promotion. \nRules & Regulations (pdf)
URL:https://www.orangecitypoker.com/event/rising-omaha-insta-pays/
CATEGORIES:Promotions
ATTACH;FMTTYPE=image/jpeg:https://www.orangecitypoker.com/wp-content/uploads/2026/04/DN-6475_GDBOC_RisingOmaha_Web_300x250.jpg
END:VEVENT
BEGIN:VEVENT
DTSTART;TZID=America/New_York:20260424T110000
DTEND;TZID=America/New_York:20260424T233000
DTSTAMP:20260424T112911
CREATED:20250619T204842Z
LAST-MODIFIED:20260420T172618Z
UID:10001004-1777028400-1777073400@www.orangecitypoker.com
SUMMARY:$500 Every 20 Minutes
DESCRIPTION:Fridays & Saturdays*\n*Excluding April 25 & May 1\, 9\, 15\, & 23\n\n$500 Every 20 Minutes from 11am – Midnight \n$200 Every 30 Minutes from Midnight – 2am
URL:https://www.orangecitypoker.com/event/500-every-20-minutes/2026-04-24/
CATEGORIES:High Hand Promotions
ATTACH;FMTTYPE=image/jpeg:https://www.orangecitypoker.com/wp-content/uploads/2025/06/GDAY7155_HighHands_Web_300x250_July25_V1.jpg
END:VEVENT
BEGIN:VEVENT
DTSTART;TZID=America/New_York:20260424T151000
DTEND;TZID=America/New_York:20260424T233000
DTSTAMP:20260424T112911
CREATED:20250619T232615Z
LAST-MODIFIED:20260420T190319Z
UID:10001035-1777043400-1777073400@www.orangecitypoker.com
SUMMARY:$165 Double Green Chip Bounty
DESCRIPTION:Fridays* | 3:10pm\n*Excluding May 15 & 22\n\n\n$165 Buy-in = $75 prize pool + $50 Bounty + $25 administrative fee + $15 staff gratuity.\nOption 2: $165 Buy-in = $75 Prize pool + $50 Bounty + $40\n20\,000 Units\n20 Minute Levels\n\nTournament Structure (pdf)
URL:https://www.orangecitypoker.com/event/165-double-green-chip-bounty/2026-04-24/
CATEGORIES:Poker Tournaments
ATTACH;FMTTYPE=image/jpeg:https://www.orangecitypoker.com/wp-content/uploads/2025/06/OC-165-Green-Chip-promo.jpg
END:VEVENT
BEGIN:VEVENT
DTSTART;TZID=America/New_York:20260425T110000
DTEND;TZID=America/New_York:20260425T233000
DTSTAMP:20260424T112911
CREATED:20250617T184220Z
LAST-MODIFIED:20260420T183144Z
UID:10001006-1777114800-1777159800@www.orangecitypoker.com
SUMMARY:$3\,000 Every Hour High Hands
DESCRIPTION:April 25 & May 9 & 23\n\nBig High Hand Payouts Every 20 Minutes!\nGet ready for an adrenaline-fueled Saturday\, with a chance to win $1\,000 every 20 minutes from 11am to midnight! Don’t miss out – arrive early and seize the opportunity! \n\n$1\,000 Every 20 Minutes | 11am – Midnight\n$200 Every 30 Minutes | 12am – 2am\n\nOne card and any full house qualifies.
URL:https://www.orangecitypoker.com/event/3k-every-hour-high-hands/2026-04-25/
CATEGORIES:High Hand Promotions
ATTACH;FMTTYPE=image/jpeg:https://www.orangecitypoker.com/wp-content/uploads/2025/07/GDAY7411_3KPowerHours_Web_300x250_Jun25_V1.jpg
END:VEVENT
BEGIN:VEVENT
DTSTART;TZID=America/New_York:20260425T121000
DTEND;TZID=America/New_York:20260425T233000
DTSTAMP:20260424T112911
CREATED:20250619T234601Z
LAST-MODIFIED:20260420T191120Z
UID:10001038-1777119000-1777159800@www.orangecitypoker.com
SUMMARY:$100 PLO High Only Double Board Bomb Pot
DESCRIPTION:Saturdays* | 12:10pm\n*Excluding May 16 & 23\n\n\n$100 Buy-in\n20\,000 Units\nLevels 20 minutes each\n\nTournament Structure (pdf)
URL:https://www.orangecitypoker.com/event/100-plo-high-only-double-board-bomb-pot/2026-04-25/
CATEGORIES:Poker Tournaments
ATTACH;FMTTYPE=image/jpeg:https://www.orangecitypoker.com/wp-content/uploads/2025/06/OC-HighLowDoubleBoardBombPot-Promo.jpg
END:VEVENT
BEGIN:VEVENT
DTSTART;TZID=America/New_York:20260426T100000
DTEND;TZID=America/New_York:20260426T110000
DTSTAMP:20260424T112911
CREATED:20260324T142223Z
LAST-MODIFIED:20260420T171407Z
UID:10001060-1777197600-1777201200@www.orangecitypoker.com
SUMMARY:Morning Grind High Hands
DESCRIPTION:Sunday – Thursday | 10am – 11am \n\nStart your poker day with Morning Grind High Hands\, happening Sunday through Thursday. Qualify starting hand one\, with the first payout at 11:00am. \nMorning Grind High Hands run as an hour-long session\, giving players a full stretch of action and more chances to take down the top hand. \nTo kick things off\, enjoy complimentary coffee from 10:00am – 11:00am. \nGrab a seat\, sip a cup of coffee\, and start the morning grind with us.
URL:https://www.orangecitypoker.com/event/morning-grind-high-hands/2026-04-26/
CATEGORIES:High Hand Promotions
ATTACH;FMTTYPE=image/jpeg:https://www.orangecitypoker.com/wp-content/uploads/2026/03/DN-5056_GDBOC_MorningGrind_WebPromo_Mar26_V1.jpg
END:VEVENT
BEGIN:VEVENT
DTSTART;TZID=America/New_York:20260426T110000
DTEND;TZID=America/New_York:20260426T220000
DTSTAMP:20260424T112911
CREATED:20250619T190710Z
LAST-MODIFIED:20260420T171651Z
UID:10000975-1777201200-1777240800@www.orangecitypoker.com
SUMMARY:$300 Every 20 Minutes
DESCRIPTION:Sundays | 11am – 10pm\n\nMake Sundays your favorite day of the week with our new High Hand promotion! Every 20 minutes from 11am-10pm\, you have a shot at winning $300 just by playing your favorite poker games. Don’t miss out on the excitement and the opportunity to boost your winnings!
URL:https://www.orangecitypoker.com/event/300-every-20-minutes/2026-04-26/
CATEGORIES:High Hand Promotions
ATTACH;FMTTYPE=image/jpeg:https://www.orangecitypoker.com/wp-content/uploads/2025/06/GDAY7411_300Every20_Web_300x250_June25_V1.jpg
END:VEVENT
BEGIN:VEVENT
DTSTART;TZID=America/New_York:20260426T191000
DTEND;TZID=America/New_York:20260426T233000
DTSTAMP:20260424T112911
CREATED:20250619T183511Z
LAST-MODIFIED:20260420T184147Z
UID:10001010-1777230600-1777246200@www.orangecitypoker.com
SUMMARY:$100 Green Chip Bounty
DESCRIPTION:Sundays* | 7:10pm\n*Excluding May 17 & 24\n\n\n$100 Buy-in\n15\,000 Units\n20-Minute Levels\n\nTournament Structure (pdf)
URL:https://www.orangecitypoker.com/event/100-green-chip-bounty/2026-04-26/
CATEGORIES:Poker Tournaments
ATTACH;FMTTYPE=image/jpeg:https://www.orangecitypoker.com/wp-content/uploads/2025/06/OC-GreenChipBounty-Promo.jpg
END:VEVENT
BEGIN:VEVENT
DTSTART;TZID=America/New_York:20260427T100000
DTEND;TZID=America/New_York:20260427T110000
DTSTAMP:20260424T112911
CREATED:20260324T142223Z
LAST-MODIFIED:20260420T171407Z
UID:10001061-1777284000-1777287600@www.orangecitypoker.com
SUMMARY:Morning Grind High Hands
DESCRIPTION:Sunday – Thursday | 10am – 11am \n\nStart your poker day with Morning Grind High Hands\, happening Sunday through Thursday. Qualify starting hand one\, with the first payout at 11:00am. \nMorning Grind High Hands run as an hour-long session\, giving players a full stretch of action and more chances to take down the top hand. \nTo kick things off\, enjoy complimentary coffee from 10:00am – 11:00am. \nGrab a seat\, sip a cup of coffee\, and start the morning grind with us.
URL:https://www.orangecitypoker.com/event/morning-grind-high-hands/2026-04-27/
CATEGORIES:High Hand Promotions
ATTACH;FMTTYPE=image/jpeg:https://www.orangecitypoker.com/wp-content/uploads/2026/03/DN-5056_GDBOC_MorningGrind_WebPromo_Mar26_V1.jpg
END:VEVENT
BEGIN:VEVENT
DTSTART;TZID=America/New_York:20260427T110000
DTEND;TZID=America/New_York:20260427T220000
DTSTAMP:20260424T112911
CREATED:20250617T141827Z
LAST-MODIFIED:20260420T171830Z
UID:10000983-1777287600-1777327200@www.orangecitypoker.com
SUMMARY:$200 Every 20 Minutes
DESCRIPTION:Mondays* | 11am – 10pm\n*Excluding May 25\n\nMake Mondays your favorite day of the week with our new High Hand promotion! \nEvery 20 minutes from 11am-10pm\, you have a shot at winning $200 just by playing your favorite poker games. Don’t miss out on the excitement and the opportunity to boost your winnings!
URL:https://www.orangecitypoker.com/event/200-every-20-minutes/2026-04-27/
CATEGORIES:High Hand Promotions
ATTACH;FMTTYPE=image/jpeg:https://www.orangecitypoker.com/wp-content/uploads/2025/06/FL-200Every20Mins-Promo.jpg
END:VEVENT
BEGIN:VEVENT
DTSTART;TZID=America/New_York:20260427T191000
DTEND;TZID=America/New_York:20260427T233000
DTSTAMP:20260424T112911
CREATED:20250619T222158Z
LAST-MODIFIED:20260420T184830Z
UID:10001016-1777317000-1777332600@www.orangecitypoker.com
SUMMARY:$130 Triple Stack Turbo No Limit Hold'em
DESCRIPTION:Mondays* | 7:10pm\n*Excluding May 18 & 25\n\n\n$130 Buy-in\n30\,000 Units\n15-Minute Levels\n\nTornament Structure (pdf)
URL:https://www.orangecitypoker.com/event/130-triple-stack-turbo-no-limit-holdem/2026-04-27/
CATEGORIES:Poker Tournaments
ATTACH;FMTTYPE=image/jpeg:https://www.orangecitypoker.com/wp-content/uploads/2025/06/OC-Triple-Stack-Turbo-GAPT-promo.jpg
END:VEVENT
BEGIN:VEVENT
DTSTART;TZID=America/New_York:20260428T100000
DTEND;TZID=America/New_York:20260428T110000
DTSTAMP:20260424T112911
CREATED:20260324T142223Z
LAST-MODIFIED:20260420T171407Z
UID:10001062-1777370400-1777374000@www.orangecitypoker.com
SUMMARY:Morning Grind High Hands
DESCRIPTION:Sunday – Thursday | 10am – 11am \n\nStart your poker day with Morning Grind High Hands\, happening Sunday through Thursday. Qualify starting hand one\, with the first payout at 11:00am. \nMorning Grind High Hands run as an hour-long session\, giving players a full stretch of action and more chances to take down the top hand. \nTo kick things off\, enjoy complimentary coffee from 10:00am – 11:00am. \nGrab a seat\, sip a cup of coffee\, and start the morning grind with us.
URL:https://www.orangecitypoker.com/event/morning-grind-high-hands/2026-04-28/
CATEGORIES:High Hand Promotions
ATTACH;FMTTYPE=image/jpeg:https://www.orangecitypoker.com/wp-content/uploads/2026/03/DN-5056_GDBOC_MorningGrind_WebPromo_Mar26_V1.jpg
END:VEVENT
BEGIN:VEVENT
DTSTART;TZID=America/New_York:20260428T110000
DTEND;TZID=America/New_York:20260428T233000
DTSTAMP:20260424T112911
CREATED:20250617T154536Z
LAST-MODIFIED:20260420T171955Z
UID:10000991-1777374000-1777419000@www.orangecitypoker.com
SUMMARY:Wheel or No Wheel
DESCRIPTION:Tuesdays & Thursdays | 11am – 10pm\n\nSeize the moment every 30 minutes\, as the winning high hand has the chance to pocket $300 in cash or take a spin on the wheel for even bigger winnings!
URL:https://www.orangecitypoker.com/event/wheel-or-no-wheel/2026-04-28/
CATEGORIES:High Hand Promotions
ATTACH;FMTTYPE=image/jpeg:https://www.orangecitypoker.com/wp-content/uploads/2025/06/FL-WheelNoWheel-Promo.jpg
END:VEVENT
BEGIN:VEVENT
DTSTART;TZID=America/New_York:20260428T191000
DTEND;TZID=America/New_York:20260428T233000
DTSTAMP:20260424T112911
CREATED:20250619T223135Z
LAST-MODIFIED:20260420T185022Z
UID:10001020-1777403400-1777419000@www.orangecitypoker.com
SUMMARY:$100 Double Board Bomb Pot
DESCRIPTION:Tuesdays* | 7:10pm\n*Excluding May 19\n\n\n$100 Buy-in\n20\,000 Units\n20-Minute Levels\n\nTournament Structure (pdf)
URL:https://www.orangecitypoker.com/event/100-double-board-bomb-pot/2026-04-28/
CATEGORIES:Poker Tournaments
ATTACH;FMTTYPE=image/jpeg:https://www.orangecitypoker.com/wp-content/uploads/2025/06/OC-DoubleBoardBombPot-Promo.jpg
END:VEVENT
BEGIN:VEVENT
DTSTART;TZID=America/New_York:20260429T100000
DTEND;TZID=America/New_York:20260429T110000
DTSTAMP:20260424T112911
CREATED:20260324T142223Z
LAST-MODIFIED:20260420T171407Z
UID:10001063-1777456800-1777460400@www.orangecitypoker.com
SUMMARY:Morning Grind High Hands
DESCRIPTION:Sunday – Thursday | 10am – 11am \n\nStart your poker day with Morning Grind High Hands\, happening Sunday through Thursday. Qualify starting hand one\, with the first payout at 11:00am. \nMorning Grind High Hands run as an hour-long session\, giving players a full stretch of action and more chances to take down the top hand. \nTo kick things off\, enjoy complimentary coffee from 10:00am – 11:00am. \nGrab a seat\, sip a cup of coffee\, and start the morning grind with us.
URL:https://www.orangecitypoker.com/event/morning-grind-high-hands/2026-04-29/
CATEGORIES:High Hand Promotions
ATTACH;FMTTYPE=image/jpeg:https://www.orangecitypoker.com/wp-content/uploads/2026/03/DN-5056_GDBOC_MorningGrind_WebPromo_Mar26_V1.jpg
END:VEVENT
BEGIN:VEVENT
DTSTART;TZID=America/New_York:20260429T110000
DTEND;TZID=America/New_York:20260429T220000
DTSTAMP:20260424T112911
CREATED:20250619T193616Z
LAST-MODIFIED:20260420T172303Z
UID:10000996-1777460400-1777500000@www.orangecitypoker.com
SUMMARY:$400 Every 20 Minutes
DESCRIPTION:Wednesdays | 11am – 10pm\n\nWin big with our high hand poker promotion\, where you could pocket $400 every 20 minutes! Don’t miss your chance to rake in the rewards while showcasing your poker skills.
URL:https://www.orangecitypoker.com/event/400-every-20-minutes/2026-04-29/
CATEGORIES:High Hand Promotions
ATTACH;FMTTYPE=image/jpeg:https://www.orangecitypoker.com/wp-content/uploads/2025/06/FL-400Every20Min-Promo.jpg
END:VEVENT
BEGIN:VEVENT
DTSTART;TZID=America/New_York:20260429T121000
DTEND;TZID=America/New_York:20260429T233000
DTSTAMP:20260424T112911
CREATED:20250619T225446Z
LAST-MODIFIED:20260420T185659Z
UID:10001025-1777464600-1777505400@www.orangecitypoker.com
SUMMARY:$130 Deep Stack No Limit Hold'em
DESCRIPTION:Wednesdays* | 12:10pm\n*Excluding March 25 & May 13 & 20\n\n\n$130 Buy-in\n25\,000 Units\n20 Minute Levels\n\nTournament Structure (pdf)
URL:https://www.orangecitypoker.com/event/130-deep-stack-no-limit-holdem/2026-04-29/
CATEGORIES:Poker Tournaments
ATTACH;FMTTYPE=image/jpeg:https://www.orangecitypoker.com/wp-content/uploads/2025/06/OC-DeepStackNLH-Promo.jpg
END:VEVENT
BEGIN:VEVENT
DTSTART;TZID=America/New_York:20260430T100000
DTEND;TZID=America/New_York:20260430T110000
DTSTAMP:20260424T112911
CREATED:20260324T142223Z
LAST-MODIFIED:20260420T171407Z
UID:10001064-1777543200-1777546800@www.orangecitypoker.com
SUMMARY:Morning Grind High Hands
DESCRIPTION:Sunday – Thursday | 10am – 11am \n\nStart your poker day with Morning Grind High Hands\, happening Sunday through Thursday. Qualify starting hand one\, with the first payout at 11:00am. \nMorning Grind High Hands run as an hour-long session\, giving players a full stretch of action and more chances to take down the top hand. \nTo kick things off\, enjoy complimentary coffee from 10:00am – 11:00am. \nGrab a seat\, sip a cup of coffee\, and start the morning grind with us.
URL:https://www.orangecitypoker.com/event/morning-grind-high-hands/2026-04-30/
CATEGORIES:High Hand Promotions
ATTACH;FMTTYPE=image/jpeg:https://www.orangecitypoker.com/wp-content/uploads/2026/03/DN-5056_GDBOC_MorningGrind_WebPromo_Mar26_V1.jpg
END:VEVENT
BEGIN:VEVENT
DTSTART;TZID=America/New_York:20260430T110000
DTEND;TZID=America/New_York:20260430T233000
DTSTAMP:20260424T112911
CREATED:20250617T154536Z
LAST-MODIFIED:20260420T171955Z
UID:10000992-1777546800-1777591800@www.orangecitypoker.com
SUMMARY:Wheel or No Wheel
DESCRIPTION:Tuesdays & Thursdays | 11am – 10pm\n\nSeize the moment every 30 minutes\, as the winning high hand has the chance to pocket $300 in cash or take a spin on the wheel for even bigger winnings!
URL:https://www.orangecitypoker.com/event/wheel-or-no-wheel/2026-04-30/
CATEGORIES:High Hand Promotions
ATTACH;FMTTYPE=image/jpeg:https://www.orangecitypoker.com/wp-content/uploads/2025/06/FL-WheelNoWheel-Promo.jpg
END:VEVENT
BEGIN:VEVENT
DTSTART;TZID=America/New_York:20260430T191000
DTEND;TZID=America/New_York:20260430T233000
DTSTAMP:20260424T112911
CREATED:20250619T231430Z
LAST-MODIFIED:20260420T190603Z
UID:10001031-1777576200-1777591800@www.orangecitypoker.com
SUMMARY:Double Stack Turbo No Limit Hold’em
DESCRIPTION:Thursdays* | 7:10pm\n*Excluding May 7\, 14 & 21\n\n\n$100 Buy-in\n20\,000 Units\n15-Minute Levels\n\nTournament Structure (pdf)
URL:https://www.orangecitypoker.com/event/double-stack-turbo-no-limit-holdem/2026-04-30/
CATEGORIES:Poker Tournaments
ATTACH;FMTTYPE=image/jpeg:https://www.orangecitypoker.com/wp-content/uploads/2025/06/OC-100-GAPT-DoubleStack-promo.jpg
END:VEVENT
BEGIN:VEVENT
DTSTART;TZID=America/New_York:20260501T110000
DTEND;TZID=America/New_York:20260501T233000
DTSTAMP:20260424T112911
CREATED:20250617T185742Z
LAST-MODIFIED:20260420T172843Z
UID:10001119-1777633200-1777678200@www.orangecitypoker.com
SUMMARY:Mega Money Wheel
DESCRIPTION:March 20 & April 3 & 17 | 11am–Midnight\n\nFrom 11am – Midnight\, win $750 every 30 minutes or spin the wheel for a chance to win up to $2\,000 in cash\, then $200 every 30 minutes from Midnight to 2am!
URL:https://www.orangecitypoker.com/event/mega-money-wheel/2026-05-01/
CATEGORIES:High Hand Promotions
ATTACH;FMTTYPE=image/jpeg:https://www.orangecitypoker.com/wp-content/uploads/2025/06/DBOC-MegaMoneyWheel-Promo.jpg
END:VEVENT
BEGIN:VEVENT
DTSTART;TZID=America/New_York:20260501T151000
DTEND;TZID=America/New_York:20260501T233000
DTSTAMP:20260424T112911
CREATED:20250619T232615Z
LAST-MODIFIED:20260420T190319Z
UID:10001138-1777648200-1777678200@www.orangecitypoker.com
SUMMARY:$165 Double Green Chip Bounty
DESCRIPTION:Fridays* | 3:10pm\n*Excluding May 15 & 22\n\n\n$165 Buy-in = $75 prize pool + $50 Bounty + $25 administrative fee + $15 staff gratuity.\nOption 2: $165 Buy-in = $75 Prize pool + $50 Bounty + $40\n20\,000 Units\n20 Minute Levels\n\nTournament Structure (pdf)
URL:https://www.orangecitypoker.com/event/165-double-green-chip-bounty/2026-05-01/
CATEGORIES:Poker Tournaments
ATTACH;FMTTYPE=image/jpeg:https://www.orangecitypoker.com/wp-content/uploads/2025/06/OC-165-Green-Chip-promo.jpg
END:VEVENT
BEGIN:VEVENT
DTSTART;TZID=America/New_York:20260502T110000
DTEND;TZID=America/New_York:20260502T233000
DTSTAMP:20260424T112911
CREATED:20250619T204842Z
LAST-MODIFIED:20260420T172618Z
UID:10001113-1777719600-1777764600@www.orangecitypoker.com
SUMMARY:$500 Every 20 Minutes
DESCRIPTION:Fridays & Saturdays*\n*Excluding April 25 & May 1\, 9\, 15\, & 23\n\n$500 Every 20 Minutes from 11am – Midnight \n$200 Every 30 Minutes from Midnight – 2am
URL:https://www.orangecitypoker.com/event/500-every-20-minutes/2026-05-02/
CATEGORIES:High Hand Promotions
ATTACH;FMTTYPE=image/jpeg:https://www.orangecitypoker.com/wp-content/uploads/2025/06/GDAY7155_HighHands_Web_300x250_July25_V1.jpg
END:VEVENT
BEGIN:VEVENT
DTSTART;TZID=America/New_York:20260502T121000
DTEND;TZID=America/New_York:20260502T233000
DTSTAMP:20260424T112911
CREATED:20250619T234601Z
LAST-MODIFIED:20260420T191120Z
UID:10001145-1777723800-1777764600@www.orangecitypoker.com
SUMMARY:$100 PLO High Only Double Board Bomb Pot
DESCRIPTION:Saturdays* | 12:10pm\n*Excluding May 16 & 23\n\n\n$100 Buy-in\n20\,000 Units\nLevels 20 minutes each\n\nTournament Structure (pdf)
URL:https://www.orangecitypoker.com/event/100-plo-high-only-double-board-bomb-pot/2026-05-02/
CATEGORIES:Poker Tournaments
ATTACH;FMTTYPE=image/jpeg:https://www.orangecitypoker.com/wp-content/uploads/2025/06/OC-HighLowDoubleBoardBombPot-Promo.jpg
END:VEVENT
BEGIN:VEVENT
DTSTART;TZID=America/New_York:20260503T100000
DTEND;TZID=America/New_York:20260503T110000
DTSTAMP:20260424T112911
CREATED:20260324T142223Z
LAST-MODIFIED:20260420T171407Z
UID:10001067-1777802400-1777806000@www.orangecitypoker.com
SUMMARY:Morning Grind High Hands
DESCRIPTION:Sunday – Thursday | 10am – 11am \n\nStart your poker day with Morning Grind High Hands\, happening Sunday through Thursday. Qualify starting hand one\, with the first payout at 11:00am. \nMorning Grind High Hands run as an hour-long session\, giving players a full stretch of action and more chances to take down the top hand. \nTo kick things off\, enjoy complimentary coffee from 10:00am – 11:00am. \nGrab a seat\, sip a cup of coffee\, and start the morning grind with us.
URL:https://www.orangecitypoker.com/event/morning-grind-high-hands/2026-05-03/
CATEGORIES:High Hand Promotions
ATTACH;FMTTYPE=image/jpeg:https://www.orangecitypoker.com/wp-content/uploads/2026/03/DN-5056_GDBOC_MorningGrind_WebPromo_Mar26_V1.jpg
END:VEVENT
BEGIN:VEVENT
DTSTART;TZID=America/New_York:20260503T100000
DTEND;TZID=America/New_York:20260503T170000
DTSTAMP:20260424T112911
CREATED:20260421T161815Z
LAST-MODIFIED:20260421T161827Z
UID:10001155-1777802400-1777827600@www.orangecitypoker.com
SUMMARY:Fuel The Table Sundays
DESCRIPTION:Sundays in May | 10am – 5pm \nHit the high hand and win gas gift cards for you and everyone at your table!
URL:https://www.orangecitypoker.com/event/fuel-the-table-sundays/2026-05-03/
CATEGORIES:Promotions
ATTACH;FMTTYPE=image/jpeg:https://www.orangecitypoker.com/wp-content/uploads/2026/04/DN-6475_GDBOC_FuelTheTable_Web_300x250.jpg
END:VEVENT
BEGIN:VEVENT
DTSTART;TZID=America/New_York:20260503T110000
DTEND;TZID=America/New_York:20260503T220000
DTSTAMP:20260424T112911
CREATED:20250619T190710Z
LAST-MODIFIED:20260420T171651Z
UID:10001087-1777806000-1777845600@www.orangecitypoker.com
SUMMARY:$300 Every 20 Minutes
DESCRIPTION:Sundays | 11am – 10pm\n\nMake Sundays your favorite day of the week with our new High Hand promotion! Every 20 minutes from 11am-10pm\, you have a shot at winning $300 just by playing your favorite poker games. Don’t miss out on the excitement and the opportunity to boost your winnings!
URL:https://www.orangecitypoker.com/event/300-every-20-minutes/2026-05-03/
CATEGORIES:High Hand Promotions
ATTACH;FMTTYPE=image/jpeg:https://www.orangecitypoker.com/wp-content/uploads/2025/06/GDAY7411_300Every20_Web_300x250_June25_V1.jpg
END:VEVENT
BEGIN:VEVENT
DTSTART;TZID=America/New_York:20260503T191000
DTEND;TZID=America/New_York:20260503T233000
DTSTAMP:20260424T112911
CREATED:20250619T183511Z
LAST-MODIFIED:20260420T184147Z
UID:10001123-1777835400-1777851000@www.orangecitypoker.com
SUMMARY:$100 Green Chip Bounty
DESCRIPTION:Sundays* | 7:10pm\n*Excluding May 17 & 24\n\n\n$100 Buy-in\n15\,000 Units\n20-Minute Levels\n\nTournament Structure (pdf)
URL:https://www.orangecitypoker.com/event/100-green-chip-bounty/2026-05-03/
CATEGORIES:Poker Tournaments
ATTACH;FMTTYPE=image/jpeg:https://www.orangecitypoker.com/wp-content/uploads/2025/06/OC-GreenChipBounty-Promo.jpg
END:VEVENT
BEGIN:VEVENT
DTSTART;TZID=America/New_York:20260504T100000
DTEND;TZID=America/New_York:20260504T110000
DTSTAMP:20260424T112911
CREATED:20260324T142223Z
LAST-MODIFIED:20260420T171407Z
UID:10001068-1777888800-1777892400@www.orangecitypoker.com
SUMMARY:Morning Grind High Hands
DESCRIPTION:Sunday – Thursday | 10am – 11am \n\nStart your poker day with Morning Grind High Hands\, happening Sunday through Thursday. Qualify starting hand one\, with the first payout at 11:00am. \nMorning Grind High Hands run as an hour-long session\, giving players a full stretch of action and more chances to take down the top hand. \nTo kick things off\, enjoy complimentary coffee from 10:00am – 11:00am. \nGrab a seat\, sip a cup of coffee\, and start the morning grind with us.
URL:https://www.orangecitypoker.com/event/morning-grind-high-hands/2026-05-04/
CATEGORIES:High Hand Promotions
ATTACH;FMTTYPE=image/jpeg:https://www.orangecitypoker.com/wp-content/uploads/2026/03/DN-5056_GDBOC_MorningGrind_WebPromo_Mar26_V1.jpg
END:VEVENT
END:VCALENDAR