BEGIN:VCALENDAR
VERSION:2.0
PRODID:-//Orange City - ECPv6.15.20//NONSGML v1.0//EN
CALSCALE:GREGORIAN
METHOD:PUBLISH
X-WR-CALNAME:Orange City
X-ORIGINAL-URL:https://www.orangecitypoker.com
X-WR-CALDESC:Events for Orange City
REFRESH-INTERVAL;VALUE=DURATION:PT1H
X-Robots-Tag:noindex
X-PUBLISHED-TTL:PT1H
BEGIN:VTIMEZONE
TZID:America/New_York
BEGIN:DAYLIGHT
TZOFFSETFROM:-0500
TZOFFSETTO:-0400
TZNAME:EDT
DTSTART:20250309T070000
END:DAYLIGHT
BEGIN:STANDARD
TZOFFSETFROM:-0400
TZOFFSETTO:-0500
TZNAME:EST
DTSTART:20251102T060000
END:STANDARD
BEGIN:DAYLIGHT
TZOFFSETFROM:-0500
TZOFFSETTO:-0400
TZNAME:EDT
DTSTART:20260308T070000
END:DAYLIGHT
BEGIN:STANDARD
TZOFFSETFROM:-0400
TZOFFSETTO:-0500
TZNAME:EST
DTSTART:20261101T060000
END:STANDARD
BEGIN:DAYLIGHT
TZOFFSETFROM:-0500
TZOFFSETTO:-0400
TZNAME:EDT
DTSTART:20270314T070000
END:DAYLIGHT
BEGIN:STANDARD
TZOFFSETFROM:-0400
TZOFFSETTO:-0500
TZNAME:EST
DTSTART:20271107T060000
END:STANDARD
END:VTIMEZONE
BEGIN:VEVENT
DTSTART;TZID=America/New_York:20260501T110000
DTEND;TZID=America/New_York:20260501T233000
DTSTAMP:20260424T173808
CREATED:20250617T185742Z
LAST-MODIFIED:20260420T172843Z
UID:10001119-1777633200-1777678200@www.orangecitypoker.com
SUMMARY:Mega Money Wheel
DESCRIPTION:March 20 & April 3 & 17 | 11am–Midnight\n\nFrom 11am – Midnight\, win $750 every 30 minutes or spin the wheel for a chance to win up to $2\,000 in cash\, then $200 every 30 minutes from Midnight to 2am!
URL:https://www.orangecitypoker.com/event/mega-money-wheel/2026-05-01/
CATEGORIES:High Hand Promotions
ATTACH;FMTTYPE=image/jpeg:https://www.orangecitypoker.com/wp-content/uploads/2025/06/DBOC-MegaMoneyWheel-Promo.jpg
END:VEVENT
BEGIN:VEVENT
DTSTART;TZID=America/New_York:20260502T110000
DTEND;TZID=America/New_York:20260502T233000
DTSTAMP:20260424T173808
CREATED:20250619T204842Z
LAST-MODIFIED:20260420T172618Z
UID:10001113-1777719600-1777764600@www.orangecitypoker.com
SUMMARY:$500 Every 20 Minutes
DESCRIPTION:Fridays & Saturdays*\n*Excluding April 25 & May 1\, 9\, 15\, & 23\n\n$500 Every 20 Minutes from 11am – Midnight \n$200 Every 30 Minutes from Midnight – 2am
URL:https://www.orangecitypoker.com/event/500-every-20-minutes/2026-05-02/
CATEGORIES:High Hand Promotions
ATTACH;FMTTYPE=image/jpeg:https://www.orangecitypoker.com/wp-content/uploads/2025/06/GDAY7155_HighHands_Web_300x250_July25_V1.jpg
END:VEVENT
BEGIN:VEVENT
DTSTART;TZID=America/New_York:20260503T100000
DTEND;TZID=America/New_York:20260503T110000
DTSTAMP:20260424T173808
CREATED:20260324T142223Z
LAST-MODIFIED:20260420T171407Z
UID:10001067-1777802400-1777806000@www.orangecitypoker.com
SUMMARY:Morning Grind High Hands
DESCRIPTION:Sunday – Thursday | 10am – 11am \n\nStart your poker day with Morning Grind High Hands\, happening Sunday through Thursday. Qualify starting hand one\, with the first payout at 11:00am. \nMorning Grind High Hands run as an hour-long session\, giving players a full stretch of action and more chances to take down the top hand. \nTo kick things off\, enjoy complimentary coffee from 10:00am – 11:00am. \nGrab a seat\, sip a cup of coffee\, and start the morning grind with us.
URL:https://www.orangecitypoker.com/event/morning-grind-high-hands/2026-05-03/
CATEGORIES:High Hand Promotions
ATTACH;FMTTYPE=image/jpeg:https://www.orangecitypoker.com/wp-content/uploads/2026/03/DN-5056_GDBOC_MorningGrind_WebPromo_Mar26_V1.jpg
END:VEVENT
BEGIN:VEVENT
DTSTART;TZID=America/New_York:20260503T110000
DTEND;TZID=America/New_York:20260503T220000
DTSTAMP:20260424T173808
CREATED:20250619T190710Z
LAST-MODIFIED:20260420T171651Z
UID:10001087-1777806000-1777845600@www.orangecitypoker.com
SUMMARY:$300 Every 20 Minutes
DESCRIPTION:Sundays | 11am – 10pm\n\nMake Sundays your favorite day of the week with our new High Hand promotion! Every 20 minutes from 11am-10pm\, you have a shot at winning $300 just by playing your favorite poker games. Don’t miss out on the excitement and the opportunity to boost your winnings!
URL:https://www.orangecitypoker.com/event/300-every-20-minutes/2026-05-03/
CATEGORIES:High Hand Promotions
ATTACH;FMTTYPE=image/jpeg:https://www.orangecitypoker.com/wp-content/uploads/2025/06/GDAY7411_300Every20_Web_300x250_June25_V1.jpg
END:VEVENT
BEGIN:VEVENT
DTSTART;TZID=America/New_York:20260504T100000
DTEND;TZID=America/New_York:20260504T110000
DTSTAMP:20260424T173808
CREATED:20260324T142223Z
LAST-MODIFIED:20260420T171407Z
UID:10001068-1777888800-1777892400@www.orangecitypoker.com
SUMMARY:Morning Grind High Hands
DESCRIPTION:Sunday – Thursday | 10am – 11am \n\nStart your poker day with Morning Grind High Hands\, happening Sunday through Thursday. Qualify starting hand one\, with the first payout at 11:00am. \nMorning Grind High Hands run as an hour-long session\, giving players a full stretch of action and more chances to take down the top hand. \nTo kick things off\, enjoy complimentary coffee from 10:00am – 11:00am. \nGrab a seat\, sip a cup of coffee\, and start the morning grind with us.
URL:https://www.orangecitypoker.com/event/morning-grind-high-hands/2026-05-04/
CATEGORIES:High Hand Promotions
ATTACH;FMTTYPE=image/jpeg:https://www.orangecitypoker.com/wp-content/uploads/2026/03/DN-5056_GDBOC_MorningGrind_WebPromo_Mar26_V1.jpg
END:VEVENT
BEGIN:VEVENT
DTSTART;TZID=America/New_York:20260504T110000
DTEND;TZID=America/New_York:20260504T220000
DTSTAMP:20260424T173808
CREATED:20250617T141827Z
LAST-MODIFIED:20260420T171830Z
UID:10001092-1777892400-1777932000@www.orangecitypoker.com
SUMMARY:$200 Every 20 Minutes
DESCRIPTION:Mondays* | 11am – 10pm\n*Excluding May 25\n\nMake Mondays your favorite day of the week with our new High Hand promotion! \nEvery 20 minutes from 11am-10pm\, you have a shot at winning $200 just by playing your favorite poker games. Don’t miss out on the excitement and the opportunity to boost your winnings!
URL:https://www.orangecitypoker.com/event/200-every-20-minutes/2026-05-04/
CATEGORIES:High Hand Promotions
ATTACH;FMTTYPE=image/jpeg:https://www.orangecitypoker.com/wp-content/uploads/2025/06/FL-200Every20Mins-Promo.jpg
END:VEVENT
BEGIN:VEVENT
DTSTART;TZID=America/New_York:20260505T100000
DTEND;TZID=America/New_York:20260505T110000
DTSTAMP:20260424T173808
CREATED:20260324T142223Z
LAST-MODIFIED:20260420T171407Z
UID:10001069-1777975200-1777978800@www.orangecitypoker.com
SUMMARY:Morning Grind High Hands
DESCRIPTION:Sunday – Thursday | 10am – 11am \n\nStart your poker day with Morning Grind High Hands\, happening Sunday through Thursday. Qualify starting hand one\, with the first payout at 11:00am. \nMorning Grind High Hands run as an hour-long session\, giving players a full stretch of action and more chances to take down the top hand. \nTo kick things off\, enjoy complimentary coffee from 10:00am – 11:00am. \nGrab a seat\, sip a cup of coffee\, and start the morning grind with us.
URL:https://www.orangecitypoker.com/event/morning-grind-high-hands/2026-05-05/
CATEGORIES:High Hand Promotions
ATTACH;FMTTYPE=image/jpeg:https://www.orangecitypoker.com/wp-content/uploads/2026/03/DN-5056_GDBOC_MorningGrind_WebPromo_Mar26_V1.jpg
END:VEVENT
BEGIN:VEVENT
DTSTART;TZID=America/New_York:20260505T110000
DTEND;TZID=America/New_York:20260505T233000
DTSTAMP:20260424T173808
CREATED:20250617T154536Z
LAST-MODIFIED:20260420T171955Z
UID:10001095-1777978800-1778023800@www.orangecitypoker.com
SUMMARY:Wheel or No Wheel
DESCRIPTION:Tuesdays & Thursdays | 11am – 10pm\n\nSeize the moment every 30 minutes\, as the winning high hand has the chance to pocket $300 in cash or take a spin on the wheel for even bigger winnings!
URL:https://www.orangecitypoker.com/event/wheel-or-no-wheel/2026-05-05/
CATEGORIES:High Hand Promotions
ATTACH;FMTTYPE=image/jpeg:https://www.orangecitypoker.com/wp-content/uploads/2025/06/FL-WheelNoWheel-Promo.jpg
END:VEVENT
BEGIN:VEVENT
DTSTART;TZID=America/New_York:20260506T100000
DTEND;TZID=America/New_York:20260506T110000
DTSTAMP:20260424T173808
CREATED:20260324T142223Z
LAST-MODIFIED:20260420T171407Z
UID:10001070-1778061600-1778065200@www.orangecitypoker.com
SUMMARY:Morning Grind High Hands
DESCRIPTION:Sunday – Thursday | 10am – 11am \n\nStart your poker day with Morning Grind High Hands\, happening Sunday through Thursday. Qualify starting hand one\, with the first payout at 11:00am. \nMorning Grind High Hands run as an hour-long session\, giving players a full stretch of action and more chances to take down the top hand. \nTo kick things off\, enjoy complimentary coffee from 10:00am – 11:00am. \nGrab a seat\, sip a cup of coffee\, and start the morning grind with us.
URL:https://www.orangecitypoker.com/event/morning-grind-high-hands/2026-05-06/
CATEGORIES:High Hand Promotions
ATTACH;FMTTYPE=image/jpeg:https://www.orangecitypoker.com/wp-content/uploads/2026/03/DN-5056_GDBOC_MorningGrind_WebPromo_Mar26_V1.jpg
END:VEVENT
BEGIN:VEVENT
DTSTART;TZID=America/New_York:20260506T110000
DTEND;TZID=America/New_York:20260506T220000
DTSTAMP:20260424T173808
CREATED:20250619T193616Z
LAST-MODIFIED:20260420T172303Z
UID:10001103-1778065200-1778104800@www.orangecitypoker.com
SUMMARY:$400 Every 20 Minutes
DESCRIPTION:Wednesdays | 11am – 10pm\n\nWin big with our high hand poker promotion\, where you could pocket $400 every 20 minutes! Don’t miss your chance to rake in the rewards while showcasing your poker skills.
URL:https://www.orangecitypoker.com/event/400-every-20-minutes/2026-05-06/
CATEGORIES:High Hand Promotions
ATTACH;FMTTYPE=image/jpeg:https://www.orangecitypoker.com/wp-content/uploads/2025/06/FL-400Every20Min-Promo.jpg
END:VEVENT
BEGIN:VEVENT
DTSTART;TZID=America/New_York:20260507T100000
DTEND;TZID=America/New_York:20260507T110000
DTSTAMP:20260424T173808
CREATED:20260324T142223Z
LAST-MODIFIED:20260420T171407Z
UID:10001071-1778148000-1778151600@www.orangecitypoker.com
SUMMARY:Morning Grind High Hands
DESCRIPTION:Sunday – Thursday | 10am – 11am \n\nStart your poker day with Morning Grind High Hands\, happening Sunday through Thursday. Qualify starting hand one\, with the first payout at 11:00am. \nMorning Grind High Hands run as an hour-long session\, giving players a full stretch of action and more chances to take down the top hand. \nTo kick things off\, enjoy complimentary coffee from 10:00am – 11:00am. \nGrab a seat\, sip a cup of coffee\, and start the morning grind with us.
URL:https://www.orangecitypoker.com/event/morning-grind-high-hands/2026-05-07/
CATEGORIES:High Hand Promotions
ATTACH;FMTTYPE=image/jpeg:https://www.orangecitypoker.com/wp-content/uploads/2026/03/DN-5056_GDBOC_MorningGrind_WebPromo_Mar26_V1.jpg
END:VEVENT
BEGIN:VEVENT
DTSTART;TZID=America/New_York:20260507T110000
DTEND;TZID=America/New_York:20260507T233000
DTSTAMP:20260424T173808
CREATED:20250617T154536Z
LAST-MODIFIED:20260420T171955Z
UID:10001096-1778151600-1778196600@www.orangecitypoker.com
SUMMARY:Wheel or No Wheel
DESCRIPTION:Tuesdays & Thursdays | 11am – 10pm\n\nSeize the moment every 30 minutes\, as the winning high hand has the chance to pocket $300 in cash or take a spin on the wheel for even bigger winnings!
URL:https://www.orangecitypoker.com/event/wheel-or-no-wheel/2026-05-07/
CATEGORIES:High Hand Promotions
ATTACH;FMTTYPE=image/jpeg:https://www.orangecitypoker.com/wp-content/uploads/2025/06/FL-WheelNoWheel-Promo.jpg
END:VEVENT
BEGIN:VEVENT
DTSTART;TZID=America/New_York:20260508T110000
DTEND;TZID=America/New_York:20260508T233000
DTSTAMP:20260424T173808
CREATED:20250619T204842Z
LAST-MODIFIED:20260420T172618Z
UID:10001114-1778238000-1778283000@www.orangecitypoker.com
SUMMARY:$500 Every 20 Minutes
DESCRIPTION:Fridays & Saturdays*\n*Excluding April 25 & May 1\, 9\, 15\, & 23\n\n$500 Every 20 Minutes from 11am – Midnight \n$200 Every 30 Minutes from Midnight – 2am
URL:https://www.orangecitypoker.com/event/500-every-20-minutes/2026-05-08/
CATEGORIES:High Hand Promotions
ATTACH;FMTTYPE=image/jpeg:https://www.orangecitypoker.com/wp-content/uploads/2025/06/GDAY7155_HighHands_Web_300x250_July25_V1.jpg
END:VEVENT
BEGIN:VEVENT
DTSTART;TZID=America/New_York:20260509T110000
DTEND;TZID=America/New_York:20260509T233000
DTSTAMP:20260424T173808
CREATED:20250617T184220Z
LAST-MODIFIED:20260420T183144Z
UID:10001121-1778324400-1778369400@www.orangecitypoker.com
SUMMARY:$3\,000 Every Hour High Hands
DESCRIPTION:April 25 & May 9 & 23\n\nBig High Hand Payouts Every 20 Minutes!\nGet ready for an adrenaline-fueled Saturday\, with a chance to win $1\,000 every 20 minutes from 11am to midnight! Don’t miss out – arrive early and seize the opportunity! \n\n$1\,000 Every 20 Minutes | 11am – Midnight\n$200 Every 30 Minutes | 12am – 2am\n\nOne card and any full house qualifies.
URL:https://www.orangecitypoker.com/event/3k-every-hour-high-hands/2026-05-09/
CATEGORIES:High Hand Promotions
ATTACH;FMTTYPE=image/jpeg:https://www.orangecitypoker.com/wp-content/uploads/2025/07/GDAY7411_3KPowerHours_Web_300x250_Jun25_V1.jpg
END:VEVENT
BEGIN:VEVENT
DTSTART;TZID=America/New_York:20260510T100000
DTEND;TZID=America/New_York:20260510T110000
DTSTAMP:20260424T173808
CREATED:20260324T142223Z
LAST-MODIFIED:20260420T171407Z
UID:10001072-1778407200-1778410800@www.orangecitypoker.com
SUMMARY:Morning Grind High Hands
DESCRIPTION:Sunday – Thursday | 10am – 11am \n\nStart your poker day with Morning Grind High Hands\, happening Sunday through Thursday. Qualify starting hand one\, with the first payout at 11:00am. \nMorning Grind High Hands run as an hour-long session\, giving players a full stretch of action and more chances to take down the top hand. \nTo kick things off\, enjoy complimentary coffee from 10:00am – 11:00am. \nGrab a seat\, sip a cup of coffee\, and start the morning grind with us.
URL:https://www.orangecitypoker.com/event/morning-grind-high-hands/2026-05-10/
CATEGORIES:High Hand Promotions
ATTACH;FMTTYPE=image/jpeg:https://www.orangecitypoker.com/wp-content/uploads/2026/03/DN-5056_GDBOC_MorningGrind_WebPromo_Mar26_V1.jpg
END:VEVENT
BEGIN:VEVENT
DTSTART;TZID=America/New_York:20260510T110000
DTEND;TZID=America/New_York:20260510T220000
DTSTAMP:20260424T173808
CREATED:20250619T190710Z
LAST-MODIFIED:20260420T171651Z
UID:10001088-1778410800-1778450400@www.orangecitypoker.com
SUMMARY:$300 Every 20 Minutes
DESCRIPTION:Sundays | 11am – 10pm\n\nMake Sundays your favorite day of the week with our new High Hand promotion! Every 20 minutes from 11am-10pm\, you have a shot at winning $300 just by playing your favorite poker games. Don’t miss out on the excitement and the opportunity to boost your winnings!
URL:https://www.orangecitypoker.com/event/300-every-20-minutes/2026-05-10/
CATEGORIES:High Hand Promotions
ATTACH;FMTTYPE=image/jpeg:https://www.orangecitypoker.com/wp-content/uploads/2025/06/GDAY7411_300Every20_Web_300x250_June25_V1.jpg
END:VEVENT
BEGIN:VEVENT
DTSTART;TZID=America/New_York:20260511T100000
DTEND;TZID=America/New_York:20260511T110000
DTSTAMP:20260424T173808
CREATED:20260324T142223Z
LAST-MODIFIED:20260420T171407Z
UID:10001073-1778493600-1778497200@www.orangecitypoker.com
SUMMARY:Morning Grind High Hands
DESCRIPTION:Sunday – Thursday | 10am – 11am \n\nStart your poker day with Morning Grind High Hands\, happening Sunday through Thursday. Qualify starting hand one\, with the first payout at 11:00am. \nMorning Grind High Hands run as an hour-long session\, giving players a full stretch of action and more chances to take down the top hand. \nTo kick things off\, enjoy complimentary coffee from 10:00am – 11:00am. \nGrab a seat\, sip a cup of coffee\, and start the morning grind with us.
URL:https://www.orangecitypoker.com/event/morning-grind-high-hands/2026-05-11/
CATEGORIES:High Hand Promotions
ATTACH;FMTTYPE=image/jpeg:https://www.orangecitypoker.com/wp-content/uploads/2026/03/DN-5056_GDBOC_MorningGrind_WebPromo_Mar26_V1.jpg
END:VEVENT
BEGIN:VEVENT
DTSTART;TZID=America/New_York:20260511T110000
DTEND;TZID=America/New_York:20260511T220000
DTSTAMP:20260424T173808
CREATED:20250617T141827Z
LAST-MODIFIED:20260420T171830Z
UID:10001093-1778497200-1778536800@www.orangecitypoker.com
SUMMARY:$200 Every 20 Minutes
DESCRIPTION:Mondays* | 11am – 10pm\n*Excluding May 25\n\nMake Mondays your favorite day of the week with our new High Hand promotion! \nEvery 20 minutes from 11am-10pm\, you have a shot at winning $200 just by playing your favorite poker games. Don’t miss out on the excitement and the opportunity to boost your winnings!
URL:https://www.orangecitypoker.com/event/200-every-20-minutes/2026-05-11/
CATEGORIES:High Hand Promotions
ATTACH;FMTTYPE=image/jpeg:https://www.orangecitypoker.com/wp-content/uploads/2025/06/FL-200Every20Mins-Promo.jpg
END:VEVENT
BEGIN:VEVENT
DTSTART;TZID=America/New_York:20260512T100000
DTEND;TZID=America/New_York:20260512T110000
DTSTAMP:20260424T173808
CREATED:20260324T142223Z
LAST-MODIFIED:20260420T171407Z
UID:10001074-1778580000-1778583600@www.orangecitypoker.com
SUMMARY:Morning Grind High Hands
DESCRIPTION:Sunday – Thursday | 10am – 11am \n\nStart your poker day with Morning Grind High Hands\, happening Sunday through Thursday. Qualify starting hand one\, with the first payout at 11:00am. \nMorning Grind High Hands run as an hour-long session\, giving players a full stretch of action and more chances to take down the top hand. \nTo kick things off\, enjoy complimentary coffee from 10:00am – 11:00am. \nGrab a seat\, sip a cup of coffee\, and start the morning grind with us.
URL:https://www.orangecitypoker.com/event/morning-grind-high-hands/2026-05-12/
CATEGORIES:High Hand Promotions
ATTACH;FMTTYPE=image/jpeg:https://www.orangecitypoker.com/wp-content/uploads/2026/03/DN-5056_GDBOC_MorningGrind_WebPromo_Mar26_V1.jpg
END:VEVENT
BEGIN:VEVENT
DTSTART;TZID=America/New_York:20260512T110000
DTEND;TZID=America/New_York:20260512T233000
DTSTAMP:20260424T173808
CREATED:20250617T154536Z
LAST-MODIFIED:20260420T171955Z
UID:10001097-1778583600-1778628600@www.orangecitypoker.com
SUMMARY:Wheel or No Wheel
DESCRIPTION:Tuesdays & Thursdays | 11am – 10pm\n\nSeize the moment every 30 minutes\, as the winning high hand has the chance to pocket $300 in cash or take a spin on the wheel for even bigger winnings!
URL:https://www.orangecitypoker.com/event/wheel-or-no-wheel/2026-05-12/
CATEGORIES:High Hand Promotions
ATTACH;FMTTYPE=image/jpeg:https://www.orangecitypoker.com/wp-content/uploads/2025/06/FL-WheelNoWheel-Promo.jpg
END:VEVENT
BEGIN:VEVENT
DTSTART;TZID=America/New_York:20260513T100000
DTEND;TZID=America/New_York:20260513T110000
DTSTAMP:20260424T173808
CREATED:20260324T142223Z
LAST-MODIFIED:20260420T171407Z
UID:10001075-1778666400-1778670000@www.orangecitypoker.com
SUMMARY:Morning Grind High Hands
DESCRIPTION:Sunday – Thursday | 10am – 11am \n\nStart your poker day with Morning Grind High Hands\, happening Sunday through Thursday. Qualify starting hand one\, with the first payout at 11:00am. \nMorning Grind High Hands run as an hour-long session\, giving players a full stretch of action and more chances to take down the top hand. \nTo kick things off\, enjoy complimentary coffee from 10:00am – 11:00am. \nGrab a seat\, sip a cup of coffee\, and start the morning grind with us.
URL:https://www.orangecitypoker.com/event/morning-grind-high-hands/2026-05-13/
CATEGORIES:High Hand Promotions
ATTACH;FMTTYPE=image/jpeg:https://www.orangecitypoker.com/wp-content/uploads/2026/03/DN-5056_GDBOC_MorningGrind_WebPromo_Mar26_V1.jpg
END:VEVENT
BEGIN:VEVENT
DTSTART;TZID=America/New_York:20260513T110000
DTEND;TZID=America/New_York:20260513T220000
DTSTAMP:20260424T173808
CREATED:20250619T193616Z
LAST-MODIFIED:20260420T172303Z
UID:10001104-1778670000-1778709600@www.orangecitypoker.com
SUMMARY:$400 Every 20 Minutes
DESCRIPTION:Wednesdays | 11am – 10pm\n\nWin big with our high hand poker promotion\, where you could pocket $400 every 20 minutes! Don’t miss your chance to rake in the rewards while showcasing your poker skills.
URL:https://www.orangecitypoker.com/event/400-every-20-minutes/2026-05-13/
CATEGORIES:High Hand Promotions
ATTACH;FMTTYPE=image/jpeg:https://www.orangecitypoker.com/wp-content/uploads/2025/06/FL-400Every20Min-Promo.jpg
END:VEVENT
BEGIN:VEVENT
DTSTART;TZID=America/New_York:20260514T100000
DTEND;TZID=America/New_York:20260514T110000
DTSTAMP:20260424T173808
CREATED:20260324T142223Z
LAST-MODIFIED:20260420T171407Z
UID:10001076-1778752800-1778756400@www.orangecitypoker.com
SUMMARY:Morning Grind High Hands
DESCRIPTION:Sunday – Thursday | 10am – 11am \n\nStart your poker day with Morning Grind High Hands\, happening Sunday through Thursday. Qualify starting hand one\, with the first payout at 11:00am. \nMorning Grind High Hands run as an hour-long session\, giving players a full stretch of action and more chances to take down the top hand. \nTo kick things off\, enjoy complimentary coffee from 10:00am – 11:00am. \nGrab a seat\, sip a cup of coffee\, and start the morning grind with us.
URL:https://www.orangecitypoker.com/event/morning-grind-high-hands/2026-05-14/
CATEGORIES:High Hand Promotions
ATTACH;FMTTYPE=image/jpeg:https://www.orangecitypoker.com/wp-content/uploads/2026/03/DN-5056_GDBOC_MorningGrind_WebPromo_Mar26_V1.jpg
END:VEVENT
BEGIN:VEVENT
DTSTART;TZID=America/New_York:20260514T110000
DTEND;TZID=America/New_York:20260514T233000
DTSTAMP:20260424T173808
CREATED:20250617T154536Z
LAST-MODIFIED:20260420T171955Z
UID:10001098-1778756400-1778801400@www.orangecitypoker.com
SUMMARY:Wheel or No Wheel
DESCRIPTION:Tuesdays & Thursdays | 11am – 10pm\n\nSeize the moment every 30 minutes\, as the winning high hand has the chance to pocket $300 in cash or take a spin on the wheel for even bigger winnings!
URL:https://www.orangecitypoker.com/event/wheel-or-no-wheel/2026-05-14/
CATEGORIES:High Hand Promotions
ATTACH;FMTTYPE=image/jpeg:https://www.orangecitypoker.com/wp-content/uploads/2025/06/FL-WheelNoWheel-Promo.jpg
END:VEVENT
BEGIN:VEVENT
DTSTART;TZID=America/New_York:20260515T110000
DTEND;TZID=America/New_York:20260515T233000
DTSTAMP:20260424T173808
CREATED:20250617T185742Z
LAST-MODIFIED:20260420T172843Z
UID:10001120-1778842800-1778887800@www.orangecitypoker.com
SUMMARY:Mega Money Wheel
DESCRIPTION:March 20 & April 3 & 17 | 11am–Midnight\n\nFrom 11am – Midnight\, win $750 every 30 minutes or spin the wheel for a chance to win up to $2\,000 in cash\, then $200 every 30 minutes from Midnight to 2am!
URL:https://www.orangecitypoker.com/event/mega-money-wheel/2026-05-15/
CATEGORIES:High Hand Promotions
ATTACH;FMTTYPE=image/jpeg:https://www.orangecitypoker.com/wp-content/uploads/2025/06/DBOC-MegaMoneyWheel-Promo.jpg
END:VEVENT
BEGIN:VEVENT
DTSTART;TZID=America/New_York:20260516T110000
DTEND;TZID=America/New_York:20260516T233000
DTSTAMP:20260424T173808
CREATED:20250619T204842Z
LAST-MODIFIED:20260420T172618Z
UID:10001115-1778929200-1778974200@www.orangecitypoker.com
SUMMARY:$500 Every 20 Minutes
DESCRIPTION:Fridays & Saturdays*\n*Excluding April 25 & May 1\, 9\, 15\, & 23\n\n$500 Every 20 Minutes from 11am – Midnight \n$200 Every 30 Minutes from Midnight – 2am
URL:https://www.orangecitypoker.com/event/500-every-20-minutes/2026-05-16/
CATEGORIES:High Hand Promotions
ATTACH;FMTTYPE=image/jpeg:https://www.orangecitypoker.com/wp-content/uploads/2025/06/GDAY7155_HighHands_Web_300x250_July25_V1.jpg
END:VEVENT
BEGIN:VEVENT
DTSTART;TZID=America/New_York:20260517T100000
DTEND;TZID=America/New_York:20260517T110000
DTSTAMP:20260424T173808
CREATED:20260324T142223Z
LAST-MODIFIED:20260420T171407Z
UID:10001077-1779012000-1779015600@www.orangecitypoker.com
SUMMARY:Morning Grind High Hands
DESCRIPTION:Sunday – Thursday | 10am – 11am \n\nStart your poker day with Morning Grind High Hands\, happening Sunday through Thursday. Qualify starting hand one\, with the first payout at 11:00am. \nMorning Grind High Hands run as an hour-long session\, giving players a full stretch of action and more chances to take down the top hand. \nTo kick things off\, enjoy complimentary coffee from 10:00am – 11:00am. \nGrab a seat\, sip a cup of coffee\, and start the morning grind with us.
URL:https://www.orangecitypoker.com/event/morning-grind-high-hands/2026-05-17/
CATEGORIES:High Hand Promotions
ATTACH;FMTTYPE=image/jpeg:https://www.orangecitypoker.com/wp-content/uploads/2026/03/DN-5056_GDBOC_MorningGrind_WebPromo_Mar26_V1.jpg
END:VEVENT
BEGIN:VEVENT
DTSTART;TZID=America/New_York:20260517T110000
DTEND;TZID=America/New_York:20260517T220000
DTSTAMP:20260424T173808
CREATED:20250619T190710Z
LAST-MODIFIED:20260420T171651Z
UID:10001089-1779015600-1779055200@www.orangecitypoker.com
SUMMARY:$300 Every 20 Minutes
DESCRIPTION:Sundays | 11am – 10pm\n\nMake Sundays your favorite day of the week with our new High Hand promotion! Every 20 minutes from 11am-10pm\, you have a shot at winning $300 just by playing your favorite poker games. Don’t miss out on the excitement and the opportunity to boost your winnings!
URL:https://www.orangecitypoker.com/event/300-every-20-minutes/2026-05-17/
CATEGORIES:High Hand Promotions
ATTACH;FMTTYPE=image/jpeg:https://www.orangecitypoker.com/wp-content/uploads/2025/06/GDAY7411_300Every20_Web_300x250_June25_V1.jpg
END:VEVENT
BEGIN:VEVENT
DTSTART;TZID=America/New_York:20260518T100000
DTEND;TZID=America/New_York:20260518T110000
DTSTAMP:20260424T173808
CREATED:20260324T142223Z
LAST-MODIFIED:20260420T171407Z
UID:10001078-1779098400-1779102000@www.orangecitypoker.com
SUMMARY:Morning Grind High Hands
DESCRIPTION:Sunday – Thursday | 10am – 11am \n\nStart your poker day with Morning Grind High Hands\, happening Sunday through Thursday. Qualify starting hand one\, with the first payout at 11:00am. \nMorning Grind High Hands run as an hour-long session\, giving players a full stretch of action and more chances to take down the top hand. \nTo kick things off\, enjoy complimentary coffee from 10:00am – 11:00am. \nGrab a seat\, sip a cup of coffee\, and start the morning grind with us.
URL:https://www.orangecitypoker.com/event/morning-grind-high-hands/2026-05-18/
CATEGORIES:High Hand Promotions
ATTACH;FMTTYPE=image/jpeg:https://www.orangecitypoker.com/wp-content/uploads/2026/03/DN-5056_GDBOC_MorningGrind_WebPromo_Mar26_V1.jpg
END:VEVENT
BEGIN:VEVENT
DTSTART;TZID=America/New_York:20260518T110000
DTEND;TZID=America/New_York:20260518T220000
DTSTAMP:20260424T173808
CREATED:20250617T141827Z
LAST-MODIFIED:20260420T171830Z
UID:10001094-1779102000-1779141600@www.orangecitypoker.com
SUMMARY:$200 Every 20 Minutes
DESCRIPTION:Mondays* | 11am – 10pm\n*Excluding May 25\n\nMake Mondays your favorite day of the week with our new High Hand promotion! \nEvery 20 minutes from 11am-10pm\, you have a shot at winning $200 just by playing your favorite poker games. Don’t miss out on the excitement and the opportunity to boost your winnings!
URL:https://www.orangecitypoker.com/event/200-every-20-minutes/2026-05-18/
CATEGORIES:High Hand Promotions
ATTACH;FMTTYPE=image/jpeg:https://www.orangecitypoker.com/wp-content/uploads/2025/06/FL-200Every20Mins-Promo.jpg
END:VEVENT
END:VCALENDAR